BEGIN:VCALENDAR
VERSION:2.0
PRODID:-//spbstu.ru//ical//RU
NAME:Расписание группы 3734302/40001
X-WR-CALNAME:Расписание группы 3734302/40001
TIMEZONE-ID:Europe/Moscow
X-WR-TIMEZONE:Europe/Moscow
BEGIN:VEVENT
UID:3l9x@192.168.245.71:3006
SEQUENCE:0
DTSTAMP:20260422T104734Z
DTSTART:20260504T090000Z
DTEND:20260504T104000Z
SUMMARY:Элективная  физическая культура и спорт
LOCATION:СК Спортивный зал
END:VEVENT
BEGIN:VEVENT
UID:xv85@192.168.245.71:3006
SEQUENCE:0
DTSTAMP:20260422T104734Z
DTSTART:20260504T110000Z
DTEND:20260504T124000Z
SUMMARY:Иностранный язык. Профессионально-ориентированный курс
LOCATION:16 к. 403
END:VEVENT
BEGIN:VEVENT
UID:crt9@192.168.245.71:3006
SEQUENCE:0
DTSTAMP:20260422T104734Z
DTSTART:20260504T130000Z
DTEND:20260504T144000Z
SUMMARY:Иностранный язык. Профессионально-ориентированный курс
LOCATION:16 к. 403
END:VEVENT
BEGIN:VEVENT
UID:71mq@192.168.245.71:3006
SEQUENCE:0
DTSTAMP:20260422T104734Z
DTSTART:20260505T090000Z
DTEND:20260505T104000Z
SUMMARY:Экономика туризма
LOCATION:50 уч.к 1230
END:VEVENT
BEGIN:VEVENT
UID:0j82@192.168.245.71:3006
SEQUENCE:0
DTSTAMP:20260422T104734Z
DTSTART:20260505T110000Z
DTEND:20260505T124000Z
SUMMARY:Управление качеством
LOCATION:50 уч.к 1206
END:VEVENT
BEGIN:VEVENT
UID:2kh9@192.168.245.71:3006
SEQUENCE:0
DTSTAMP:20260422T104734Z
DTSTART:20260505T130000Z
DTEND:20260505T144000Z
SUMMARY:Статистика
LOCATION:50 уч.к 1103
END:VEVENT
BEGIN:VEVENT
UID:s8ob@192.168.245.71:3006
SEQUENCE:0
DTSTAMP:20260422T104734Z
DTSTART:20260505T150000Z
DTEND:20260505T180000Z
SUMMARY:Русский язык как иностранный: Профессионально-ориентированный курс
LOCATION:50 уч.к 1428
END:VEVENT
BEGIN:VEVENT
UID:msc4@192.168.245.71:3006
SEQUENCE:0
DTSTAMP:20260422T104734Z
DTSTART:20260506T090000Z
DTEND:20260506T104000Z
SUMMARY:Экономика туризма
LOCATION:50 уч.к 1230
END:VEVENT
BEGIN:VEVENT
UID:e15s@192.168.245.71:3006
SEQUENCE:0
DTSTAMP:20260422T104734Z
DTSTART:20260506T110000Z
DTEND:20260506T124000Z
SUMMARY:Управление качеством
LOCATION:50 уч.к 1105
END:VEVENT
BEGIN:VEVENT
UID:gb1y@192.168.245.71:3006
SEQUENCE:0
DTSTAMP:20260422T104734Z
DTSTART:20260507T090000Z
DTEND:20260507T104000Z
SUMMARY:Статистика
LOCATION:50 уч.к 1105
END:VEVENT
BEGIN:VEVENT
UID:9ujd@192.168.245.71:3006
SEQUENCE:0
DTSTAMP:20260422T104734Z
DTSTART:20260507T110000Z
DTEND:20260507T124000Z
SUMMARY:Элективная  физическая культура и спорт
LOCATION:СК Спортивный зал
END:VEVENT
BEGIN:VEVENT
UID:vown@192.168.245.71:3006
SEQUENCE:0
DTSTAMP:20260422T104734Z
DTSTART:20260508T074000Z
DTEND:20260508T084000Z
SUMMARY:Второй иностранный язык (испанский): базовая подготовка\, Английск
 ий
LOCATION:50 уч.к 1328
END:VEVENT
BEGIN:VEVENT
UID:9dzk@192.168.245.71:3006
SEQUENCE:0
DTSTAMP:20260422T104734Z
DTSTART:20260508T090000Z
DTEND:20260508T104000Z
SUMMARY:Второй иностранный язык (испанский): базовая подготовка\, Английск
 ий
LOCATION:50 уч.к 1328
END:VEVENT
END:VCALENDAR