BEGIN:VCALENDAR
VERSION:2.0
PRODID:-//spbstu.ru//ical//RU
NAME:Расписание группы 3734303/40002
X-WR-CALNAME:Расписание группы 3734303/40002
TIMEZONE-ID:Europe/Moscow
X-WR-TIMEZONE:Europe/Moscow
BEGIN:VEVENT
UID:qly6@192.168.245.71:3006
SEQUENCE:0
DTSTAMP:20260426T024919Z
DTSTART:20250902T070000Z
DTEND:20250902T084000Z
SUMMARY:Менеджмент в сфере услуг
LOCATION:50 уч.к 1248
END:VEVENT
BEGIN:VEVENT
UID:jbh9@192.168.245.71:3006
SEQUENCE:0
DTSTAMP:20260426T024919Z
DTSTART:20250902T090000Z
DTEND:20250902T104000Z
SUMMARY:История России
LOCATION:50 уч.к 1328
END:VEVENT
BEGIN:VEVENT
UID:vst1@192.168.245.71:3006
SEQUENCE:0
DTSTAMP:20260426T024919Z
DTSTART:20250902T150000Z
DTEND:20250902T171500Z
SUMMARY:Русский язык как иностранный. Язык специальности
LOCATION:15 к. 430
END:VEVENT
BEGIN:VEVENT
UID:9g4n@192.168.245.71:3006
SEQUENCE:0
DTSTAMP:20260426T024919Z
DTSTART:20250903T090000Z
DTEND:20250903T104000Z
SUMMARY:Маркетинг
LOCATION:50 уч.к 1245
END:VEVENT
BEGIN:VEVENT
UID:qk40@192.168.245.71:3006
SEQUENCE:0
DTSTAMP:20260426T024919Z
DTSTART:20250903T110000Z
DTEND:20250903T124000Z
SUMMARY:Психология делового общения
LOCATION:50 уч.к 1341
END:VEVENT
BEGIN:VEVENT
UID:ncu0@192.168.245.71:3006
SEQUENCE:0
DTSTAMP:20260426T024919Z
DTSTART:20250903T150000Z
DTEND:20250903T164000Z
SUMMARY:Цифровая аналитика
LOCATION:DL Дистанционно
END:VEVENT
BEGIN:VEVENT
UID:im4u@192.168.245.71:3006
SEQUENCE:0
DTSTAMP:20260426T024919Z
DTSTART:20250904T070000Z
DTEND:20250904T084000Z
SUMMARY:Менеджмент в сфере услуг
LOCATION:50 уч.к 1214
END:VEVENT
BEGIN:VEVENT
UID:onhk@192.168.245.71:3006
SEQUENCE:0
DTSTAMP:20260426T024919Z
DTSTART:20250905T090000Z
DTEND:20250905T104000Z
SUMMARY:Теория вероятностей
LOCATION:50 уч.к 1319
END:VEVENT
BEGIN:VEVENT
UID:78j1@192.168.245.71:3006
SEQUENCE:0
DTSTAMP:20260426T024919Z
DTSTART:20250905T110000Z
DTEND:20250905T124000Z
SUMMARY:Психология делового общения
LOCATION:50 уч.к 1218
END:VEVENT
BEGIN:VEVENT
UID:ezmb@192.168.245.71:3006
SEQUENCE:0
DTSTAMP:20260426T024919Z
DTSTART:20250905T130000Z
DTEND:20250905T144000Z
SUMMARY:Цифровая аналитика
LOCATION:50 уч.к 1101
END:VEVENT
BEGIN:VEVENT
UID:blzf@192.168.245.71:3006
SEQUENCE:0
DTSTAMP:20260426T024919Z
DTSTART:20250906T090000Z
DTEND:20250906T104000Z
SUMMARY:Теория вероятностей
LOCATION:50 уч.к 1338
END:VEVENT
BEGIN:VEVENT
UID:c4t8@192.168.245.71:3006
SEQUENCE:0
DTSTAMP:20260426T024919Z
DTSTART:20250906T110000Z
DTEND:20250906T124000Z
SUMMARY:Второй иностранный язык (испанский): базовая подготовка\, Английск
 ий
LOCATION:50 уч.к 1428
END:VEVENT
BEGIN:VEVENT
UID:r1j9@192.168.245.71:3006
SEQUENCE:0
DTSTAMP:20260426T024919Z
DTSTART:20250906T130000Z
DTEND:20250906T144000Z
SUMMARY:Второй иностранный язык (испанский): базовая подготовка\, Английск
 ий
LOCATION:50 уч.к 1428
END:VEVENT
END:VCALENDAR