BEGIN:VCALENDAR
VERSION:2.0
PRODID:-//spbstu.ru//ical//RU
NAME:Расписание группы 3734303/40002
X-WR-CALNAME:Расписание группы 3734303/40002
TIMEZONE-ID:Europe/Moscow
X-WR-TIMEZONE:Europe/Moscow
BEGIN:VEVENT
UID:xh2y@192.168.245.71:3006
SEQUENCE:0
DTSTAMP:20260422T063556Z
DTSTART:20260323T070000Z
DTEND:20260323T084000Z
SUMMARY:Безопасность жизнедеятельности
LOCATION:50 уч.к 1242
END:VEVENT
BEGIN:VEVENT
UID:8lbu@192.168.245.71:3006
SEQUENCE:0
DTSTAMP:20260422T063556Z
DTSTART:20260323T090000Z
DTEND:20260323T104000Z
SUMMARY:Элективная  физическая культура и спорт
LOCATION:СК Спортивный зал
END:VEVENT
BEGIN:VEVENT
UID:me2t@192.168.245.71:3006
SEQUENCE:0
DTSTAMP:20260422T063556Z
DTSTART:20260323T110000Z
DTEND:20260323T124000Z
SUMMARY:Иностранный язык. Профессионально-ориентированный курс
LOCATION:16 к. 402
END:VEVENT
BEGIN:VEVENT
UID:7egm@192.168.245.71:3006
SEQUENCE:0
DTSTAMP:20260422T063556Z
DTSTART:20260323T130000Z
DTEND:20260323T144000Z
SUMMARY:Иностранный язык. Профессионально-ориентированный курс
LOCATION:16 к. 402
END:VEVENT
BEGIN:VEVENT
UID:1nml@192.168.245.71:3006
SEQUENCE:0
DTSTAMP:20260422T063556Z
DTSTART:20260323T150000Z
DTEND:20260323T164000Z
SUMMARY:Статистика
LOCATION:ГЗ 215
END:VEVENT
BEGIN:VEVENT
UID:plry@192.168.245.71:3006
SEQUENCE:0
DTSTAMP:20260422T063556Z
DTSTART:20260324T060000Z
DTEND:20260324T064000Z
SUMMARY:Маркетинг
LOCATION:50 уч.к 1341
END:VEVENT
BEGIN:VEVENT
UID:jt3n@192.168.245.71:3006
SEQUENCE:0
DTSTAMP:20260422T063556Z
DTSTART:20260324T070000Z
DTEND:20260324T084000Z
SUMMARY:Управление качеством
LOCATION:50 уч.к 1235
END:VEVENT
BEGIN:VEVENT
UID:l40u@192.168.245.71:3006
SEQUENCE:0
DTSTAMP:20260422T063556Z
DTSTART:20260324T090000Z
DTEND:20260324T104000Z
SUMMARY:Статистика
LOCATION:50 уч.к 1107
END:VEVENT
BEGIN:VEVENT
UID:wtl8@192.168.245.71:3006
SEQUENCE:0
DTSTAMP:20260422T063556Z
DTSTART:20260324T104000Z
DTEND:20260324T110000Z
SUMMARY:Цифровая аналитика
LOCATION:50 уч.к 1104
END:VEVENT
BEGIN:VEVENT
UID:vzqv@192.168.245.71:3006
SEQUENCE:0
DTSTAMP:20260422T063556Z
DTSTART:20260324T110000Z
DTEND:20260324T124000Z
SUMMARY:Экономика гостеприимства
LOCATION:50 уч.к 1230
END:VEVENT
BEGIN:VEVENT
UID:8fim@192.168.245.71:3006
SEQUENCE:0
DTSTAMP:20260422T063556Z
DTSTART:20260324T130000Z
DTEND:20260324T144000Z
SUMMARY:Экономика гостеприимства
LOCATION:50 уч.к 1230
END:VEVENT
BEGIN:VEVENT
UID:mwm7@192.168.245.71:3006
SEQUENCE:0
DTSTAMP:20260422T063556Z
DTSTART:20260324T150000Z
DTEND:20260324T180000Z
SUMMARY:Русский язык как иностранный: Профессионально-ориентированный курс
LOCATION:50 уч.к 1428
END:VEVENT
BEGIN:VEVENT
UID:qohp@192.168.245.71:3006
SEQUENCE:0
DTSTAMP:20260422T063556Z
DTSTART:20260325T090000Z
DTEND:20260325T104000Z
SUMMARY:Психодиагностика и психологический практикум
LOCATION:50 уч.к 1422
END:VEVENT
BEGIN:VEVENT
UID:ngwi@192.168.245.71:3006
SEQUENCE:0
DTSTAMP:20260422T063556Z
DTSTART:20260325T110000Z
DTEND:20260325T124000Z
SUMMARY:Управление качеством
LOCATION:50 уч.к 1105
END:VEVENT
BEGIN:VEVENT
UID:oda5@192.168.245.71:3006
SEQUENCE:0
DTSTAMP:20260422T063556Z
DTSTART:20260325T130000Z
DTEND:20260325T144000Z
SUMMARY:Иностранный язык: деловая коммуникация
LOCATION:16 к. 411
END:VEVENT
BEGIN:VEVENT
UID:d5ph@192.168.245.71:3006
SEQUENCE:0
DTSTAMP:20260422T063556Z
DTSTART:20260325T150000Z
DTEND:20260325T164000Z
SUMMARY:История России
LOCATION:50 уч.к 1323
END:VEVENT
BEGIN:VEVENT
UID:4vd1@192.168.245.71:3006
SEQUENCE:0
DTSTAMP:20260422T063556Z
DTSTART:20260326T070000Z
DTEND:20260326T084000Z
SUMMARY:Экономика гостеприимства
LOCATION:50 уч.к 1232
END:VEVENT
BEGIN:VEVENT
UID:fl6p@192.168.245.71:3006
SEQUENCE:0
DTSTAMP:20260422T063556Z
DTSTART:20260326T090000Z
DTEND:20260326T104000Z
SUMMARY:Статистика
LOCATION:50 уч.к 1105
END:VEVENT
BEGIN:VEVENT
UID:i1b6@192.168.245.71:3006
SEQUENCE:0
DTSTAMP:20260422T063556Z
DTSTART:20260326T110000Z
DTEND:20260326T124000Z
SUMMARY:Элективная  физическая культура и спорт
LOCATION:СК Спортивный зал
END:VEVENT
BEGIN:VEVENT
UID:0ty4@192.168.245.71:3006
SEQUENCE:0
DTSTAMP:20260422T063556Z
DTSTART:20260327T080000Z
DTEND:20260327T083000Z
SUMMARY:Сервисная деятельность
LOCATION:50 уч.к 2502
END:VEVENT
BEGIN:VEVENT
UID:a1lg@192.168.245.71:3006
SEQUENCE:0
DTSTAMP:20260422T063556Z
DTSTART:20260327T083000Z
DTEND:20260327T090000Z
SUMMARY:Менеджмент в сфере услуг
LOCATION:50 уч.к 2502
END:VEVENT
BEGIN:VEVENT
UID:atkd@192.168.245.71:3006
SEQUENCE:0
DTSTAMP:20260422T063556Z
DTSTART:20260327T110000Z
DTEND:20260327T124000Z
SUMMARY:Второй иностранный язык (испанский): базовая подготовка\, Английск
 ий
LOCATION:50 уч.к 1328
END:VEVENT
BEGIN:VEVENT
UID:mn0d@192.168.245.71:3006
SEQUENCE:0
DTSTAMP:20260422T063556Z
DTSTART:20260327T130000Z
DTEND:20260327T140000Z
SUMMARY:Второй иностранный язык (испанский): базовая подготовка\, Английск
 ий
LOCATION:50 уч.к 1328
END:VEVENT
END:VCALENDAR