BEGIN:VCALENDAR
VERSION:2.0
PRODID:-//spbstu.ru//ical//RU
NAME:Расписание группы 3734303/40002
X-WR-CALNAME:Расписание группы 3734303/40002
TIMEZONE-ID:Europe/Moscow
X-WR-TIMEZONE:Europe/Moscow
BEGIN:VEVENT
UID:gpx7@192.168.245.71:3006
SEQUENCE:0
DTSTAMP:20260422T190353Z
DTSTART:20260601T070000Z
DTEND:20260601T084000Z
SUMMARY:Управление качеством
LOCATION:DL Дистанционно
END:VEVENT
BEGIN:VEVENT
UID:ncdy@192.168.245.71:3006
SEQUENCE:0
DTSTAMP:20260422T190353Z
DTSTART:20260603T110000Z
DTEND:20260603T144000Z
SUMMARY:Управление качеством
LOCATION:50 уч.к 1230
END:VEVENT
BEGIN:VEVENT
UID:1070@192.168.245.71:3006
SEQUENCE:0
DTSTAMP:20260422T190353Z
DTSTART:20260604T150000Z
DTEND:20260604T164000Z
SUMMARY:Статистика
LOCATION:DL Дистанционно
END:VEVENT
END:VCALENDAR