BEGIN:VCALENDAR
VERSION:2.0
PRODID:-//spbstu.ru//ical//RU
NAME:Расписание группы 3740105/40101
X-WR-CALNAME:Расписание группы 3740105/40101
TIMEZONE-ID:Europe/Moscow
X-WR-TIMEZONE:Europe/Moscow
BEGIN:VEVENT
UID:9pkx@192.168.245.71:3006
SEQUENCE:0
DTSTAMP:20260424T043123Z
DTSTART:20251117T150000Z
DTEND:20251117T164000Z
SUMMARY:Цифровое моделирование производственных процессов
LOCATION:11 к. 345
END:VEVENT
BEGIN:VEVENT
UID:w2qz@192.168.245.71:3006
SEQUENCE:0
DTSTAMP:20260424T043123Z
DTSTART:20251117T170000Z
DTEND:20251117T184000Z
SUMMARY:Цифровое моделирование производственных процессов
LOCATION:11 к. 345
END:VEVENT
BEGIN:VEVENT
UID:fpls@192.168.245.71:3006
SEQUENCE:0
DTSTAMP:20260424T043123Z
DTSTART:20251118T150000Z
DTEND:20251118T164000Z
SUMMARY:Геопространственное моделирование
LOCATION:50 уч.к 1107
END:VEVENT
BEGIN:VEVENT
UID:w0pi@192.168.245.71:3006
SEQUENCE:0
DTSTAMP:20260424T043123Z
DTSTART:20251118T170000Z
DTEND:20251118T184000Z
SUMMARY:Геопространственное моделирование
LOCATION:50 уч.к 1107
END:VEVENT
END:VCALENDAR