BEGIN:VCALENDAR
VERSION:2.0
PRODID:-//spbstu.ru//ical//RU
NAME:Расписание группы 3740105/40101
X-WR-CALNAME:Расписание группы 3740105/40101
TIMEZONE-ID:Europe/Moscow
X-WR-TIMEZONE:Europe/Moscow
BEGIN:VEVENT
UID:asdl@192.168.245.71:3006
SEQUENCE:0
DTSTAMP:20260424T004049Z
DTSTART:20251124T150000Z
DTEND:20251124T164000Z
SUMMARY:Цифровое моделирование производственных процессов
LOCATION:11 к. 345
END:VEVENT
BEGIN:VEVENT
UID:2yvm@192.168.245.71:3006
SEQUENCE:0
DTSTAMP:20260424T004049Z
DTSTART:20251127T150000Z
DTEND:20251127T164000Z
SUMMARY:Машинное обучение
LOCATION:50 уч.к 1422
END:VEVENT
BEGIN:VEVENT
UID:uikc@192.168.245.71:3006
SEQUENCE:0
DTSTAMP:20260424T004049Z
DTSTART:20251127T170000Z
DTEND:20251127T184000Z
SUMMARY:Машинное обучение
LOCATION:50 уч.к 1422
END:VEVENT
BEGIN:VEVENT
UID:8ucj@192.168.245.71:3006
SEQUENCE:0
DTSTAMP:20260424T004049Z
DTSTART:20251128T150000Z
DTEND:20251128T164000Z
SUMMARY:Информационные системы и технологии в статистике
LOCATION:50 уч.к 1101
END:VEVENT
BEGIN:VEVENT
UID:qqkl@192.168.245.71:3006
SEQUENCE:0
DTSTAMP:20260424T004049Z
DTSTART:20251128T170000Z
DTEND:20251128T184000Z
SUMMARY:Информационные системы и технологии в статистике
LOCATION:50 уч.к 1101
END:VEVENT
BEGIN:VEVENT
UID:ti32@192.168.245.71:3006
SEQUENCE:0
DTSTAMP:20260424T004049Z
DTSTART:20251129T090000Z
DTEND:20251129T104000Z
SUMMARY:Научно-исследовательская работа по анализу экономических данных
LOCATION:50 уч.к 1109
END:VEVENT
BEGIN:VEVENT
UID:zznv@192.168.245.71:3006
SEQUENCE:0
DTSTAMP:20260424T004049Z
DTSTART:20251129T110000Z
DTEND:20251129T124000Z
SUMMARY:Научно-исследовательская работа по анализу экономических данных
LOCATION:50 уч.к 1109
END:VEVENT
BEGIN:VEVENT
UID:7jpt@192.168.245.71:3006
SEQUENCE:0
DTSTAMP:20260424T004049Z
DTSTART:20251129T130000Z
DTEND:20251129T144000Z
SUMMARY:Научно-исследовательская работа по анализу экономических данных
LOCATION:50 уч.к 1109
END:VEVENT
END:VCALENDAR