BEGIN:VCALENDAR
VERSION:2.0
PRODID:-//spbstu.ru//ical//RU
NAME:Расписание группы 3740105/40101
X-WR-CALNAME:Расписание группы 3740105/40101
TIMEZONE-ID:Europe/Moscow
X-WR-TIMEZONE:Europe/Moscow
BEGIN:VEVENT
UID:qctc@192.168.245.71:3006
SEQUENCE:0
DTSTAMP:20260423T191747Z
DTSTART:20251209T150000Z
DTEND:20251209T164000Z
SUMMARY:Информационные системы и технологии в статистике
LOCATION:50 уч.к 1204
END:VEVENT
BEGIN:VEVENT
UID:qpbi@192.168.245.71:3006
SEQUENCE:0
DTSTAMP:20260423T191747Z
DTSTART:20251209T170000Z
DTEND:20251209T184000Z
SUMMARY:Информационные системы и технологии в статистике
LOCATION:50 уч.к 1204
END:VEVENT
BEGIN:VEVENT
UID:3z3z@192.168.245.71:3006
SEQUENCE:0
DTSTAMP:20260423T191747Z
DTSTART:20251210T150000Z
DTEND:20251210T164000Z
SUMMARY:Машинное обучение
LOCATION:50 уч.к 1525-а
END:VEVENT
BEGIN:VEVENT
UID:rxzi@192.168.245.71:3006
SEQUENCE:0
DTSTAMP:20260423T191747Z
DTSTART:20251210T170000Z
DTEND:20251210T184000Z
SUMMARY:Машинное обучение
LOCATION:50 уч.к 1525-а
END:VEVENT
BEGIN:VEVENT
UID:st0i@192.168.245.71:3006
SEQUENCE:0
DTSTAMP:20260423T191747Z
DTSTART:20251211T150000Z
DTEND:20251211T164000Z
SUMMARY:Машинное обучение
LOCATION:50 уч.к 1525-а
END:VEVENT
BEGIN:VEVENT
UID:gkpu@192.168.245.71:3006
SEQUENCE:0
DTSTAMP:20260423T191747Z
DTSTART:20251211T170000Z
DTEND:20251211T184000Z
SUMMARY:Машинное обучение
LOCATION:50 уч.к 1525-а
END:VEVENT
BEGIN:VEVENT
UID:gcff@192.168.245.71:3006
SEQUENCE:0
DTSTAMP:20260423T191747Z
DTSTART:20251212T130000Z
DTEND:20251212T144000Z
SUMMARY:Научно-исследовательская работа
LOCATION:DL Дистанционно
END:VEVENT
BEGIN:VEVENT
UID:j5m5@192.168.245.71:3006
SEQUENCE:0
DTSTAMP:20260423T191747Z
DTSTART:20251212T170000Z
DTEND:20251212T184000Z
SUMMARY:Машинное обучение
LOCATION:50 уч.к 1525-а
END:VEVENT
BEGIN:VEVENT
UID:9sh8@192.168.245.71:3006
SEQUENCE:0
DTSTAMP:20260423T191747Z
DTSTART:20251213T090000Z
DTEND:20251213T104000Z
SUMMARY:Научно-исследовательская работа по анализу экономических данных
LOCATION:50 уч.к 1109
END:VEVENT
BEGIN:VEVENT
UID:wkir@192.168.245.71:3006
SEQUENCE:0
DTSTAMP:20260423T191747Z
DTSTART:20251213T110000Z
DTEND:20251213T124000Z
SUMMARY:Научно-исследовательская работа по анализу экономических данных
LOCATION:50 уч.к 1109
END:VEVENT
BEGIN:VEVENT
UID:tju8@192.168.245.71:3006
SEQUENCE:0
DTSTAMP:20260423T191747Z
DTSTART:20251213T130000Z
DTEND:20251213T144000Z
SUMMARY:Научно-исследовательская работа по анализу экономических данных
LOCATION:50 уч.к 1109
END:VEVENT
END:VCALENDAR