BEGIN:VCALENDAR
VERSION:2.0
PRODID:-//spbstu.ru//ical//RU
NAME:Расписание группы 3740105/40101
X-WR-CALNAME:Расписание группы 3740105/40101
TIMEZONE-ID:Europe/Moscow
X-WR-TIMEZONE:Europe/Moscow
BEGIN:VEVENT
UID:tqqe@192.168.245.71:3006
SEQUENCE:0
DTSTAMP:20260422T014218Z
DTSTART:20260407T124100Z
DTEND:20260407T140000Z
SUMMARY:Практика по профилю профессиональной деятельности
LOCATION:50 уч.к 1418
END:VEVENT
END:VCALENDAR