BEGIN:VCALENDAR
VERSION:2.0
PRODID:-//spbstu.ru//ical//RU
NAME:Расписание группы 3740105/40201
X-WR-CALNAME:Расписание группы 3740105/40201
TIMEZONE-ID:Europe/Moscow
X-WR-TIMEZONE:Europe/Moscow
BEGIN:VEVENT
UID:zl34@192.168.245.71:3006
SEQUENCE:0
DTSTAMP:20260424T235018Z
DTSTART:20251020T150000Z
DTEND:20251020T164000Z
SUMMARY:Риск-моделирование
LOCATION:50 уч.к 1336а
END:VEVENT
BEGIN:VEVENT
UID:r0g3@192.168.245.71:3006
SEQUENCE:0
DTSTAMP:20260424T235018Z
DTSTART:20251020T170000Z
DTEND:20251020T184000Z
SUMMARY:Риск-моделирование
LOCATION:50 уч.к 1336а
END:VEVENT
BEGIN:VEVENT
UID:5r0i@192.168.245.71:3006
SEQUENCE:0
DTSTAMP:20260424T235018Z
DTSTART:20251021T150000Z
DTEND:20251021T164000Z
SUMMARY:Современные информационные технологии в статистике
LOCATION:50 уч.к 1113
END:VEVENT
BEGIN:VEVENT
UID:xqqr@192.168.245.71:3006
SEQUENCE:0
DTSTAMP:20260424T235018Z
DTSTART:20251021T170000Z
DTEND:20251021T184000Z
SUMMARY:Современные информационные технологии в статистике
LOCATION:50 уч.к 1113
END:VEVENT
BEGIN:VEVENT
UID:cv3k@192.168.245.71:3006
SEQUENCE:0
DTSTAMP:20260424T235018Z
DTSTART:20251022T150000Z
DTEND:20251022T164000Z
SUMMARY:Веб-аналитика и анализ цифрового следа
LOCATION:50 уч.к 1109
END:VEVENT
BEGIN:VEVENT
UID:h9f9@192.168.245.71:3006
SEQUENCE:0
DTSTAMP:20260424T235018Z
DTSTART:20251022T170000Z
DTEND:20251022T184000Z
SUMMARY:Автоматизация функциональных процессов предприятия
LOCATION:50 уч.к 1109
END:VEVENT
BEGIN:VEVENT
UID:uz1z@192.168.245.71:3006
SEQUENCE:0
DTSTAMP:20260424T235018Z
DTSTART:20251023T110000Z
DTEND:20251023T120000Z
SUMMARY:Эконометрика (продвинутый уровень)
LOCATION:50 уч.к 1109
END:VEVENT
BEGIN:VEVENT
UID:m74r@192.168.245.71:3006
SEQUENCE:0
DTSTAMP:20260424T235018Z
DTSTART:20251025T090000Z
DTEND:20251025T104000Z
SUMMARY:Проектная практика в ERP-системах
LOCATION:50 уч.к 1109
END:VEVENT
BEGIN:VEVENT
UID:if9d@192.168.245.71:3006
SEQUENCE:0
DTSTAMP:20260424T235018Z
DTSTART:20251025T110000Z
DTEND:20251025T124000Z
SUMMARY:Проектная практика в ERP-системах
LOCATION:50 уч.к 1109
END:VEVENT
END:VCALENDAR