BEGIN:VCALENDAR
VERSION:2.0
PRODID:-//spbstu.ru//ical//RU
NAME:Расписание группы 3740105/40201
X-WR-CALNAME:Расписание группы 3740105/40201
TIMEZONE-ID:Europe/Moscow
X-WR-TIMEZONE:Europe/Moscow
BEGIN:VEVENT
UID:qmml@192.168.245.71:3006
SEQUENCE:0
DTSTAMP:20260424T074735Z
DTSTART:20251124T150000Z
DTEND:20251124T164000Z
SUMMARY:Автоматизация функциональных процессов предприятия
LOCATION:50 уч.к 1104
END:VEVENT
BEGIN:VEVENT
UID:3eyb@192.168.245.71:3006
SEQUENCE:0
DTSTAMP:20260424T074735Z
DTSTART:20251124T170000Z
DTEND:20251124T184000Z
SUMMARY:Автоматизация функциональных процессов предприятия
LOCATION:50 уч.к 1104
END:VEVENT
END:VCALENDAR