BEGIN:VCALENDAR
VERSION:2.0
PRODID:-//spbstu.ru//ical//RU
NAME:Расписание группы 3740105/40201
X-WR-CALNAME:Расписание группы 3740105/40201
TIMEZONE-ID:Europe/Moscow
X-WR-TIMEZONE:Europe/Moscow
BEGIN:VEVENT
UID:qdq1@192.168.245.71:3006
SEQUENCE:0
DTSTAMP:20260424T074659Z
DTSTART:20251201T150000Z
DTEND:20251201T164000Z
SUMMARY:Риск-моделирование
LOCATION:50 уч.к 1336а
END:VEVENT
BEGIN:VEVENT
UID:rjf9@192.168.245.71:3006
SEQUENCE:0
DTSTAMP:20260424T074659Z
DTSTART:20251201T170000Z
DTEND:20251201T184000Z
SUMMARY:Риск-моделирование
LOCATION:50 уч.к 1336а
END:VEVENT
BEGIN:VEVENT
UID:rc47@192.168.245.71:3006
SEQUENCE:0
DTSTAMP:20260424T074659Z
DTSTART:20251202T150000Z
DTEND:20251202T164000Z
SUMMARY:Современные информационные технологии в статистике
LOCATION:50 уч.к 1113
END:VEVENT
BEGIN:VEVENT
UID:lq4l@192.168.245.71:3006
SEQUENCE:0
DTSTAMP:20260424T074659Z
DTSTART:20251202T170000Z
DTEND:20251202T184000Z
SUMMARY:Современные информационные технологии в статистике
LOCATION:50 уч.к 1113
END:VEVENT
BEGIN:VEVENT
UID:p0ui@192.168.245.71:3006
SEQUENCE:0
DTSTAMP:20260424T074659Z
DTSTART:20251206T090000Z
DTEND:20251206T104000Z
SUMMARY:Проектная практика в ERP-системах
LOCATION:50 уч.к 1109
END:VEVENT
BEGIN:VEVENT
UID:fivc@192.168.245.71:3006
SEQUENCE:0
DTSTAMP:20260424T074659Z
DTSTART:20251206T110000Z
DTEND:20251206T124000Z
SUMMARY:Проектная практика в ERP-системах
LOCATION:50 уч.к 1109
END:VEVENT
BEGIN:VEVENT
UID:r7mm@192.168.245.71:3006
SEQUENCE:0
DTSTAMP:20260424T074659Z
DTSTART:20251206T130000Z
DTEND:20251206T144000Z
SUMMARY:Проектная практика в ERP-системах
LOCATION:50 уч.к 1109
END:VEVENT
END:VCALENDAR