BEGIN:VCALENDAR
VERSION:2.0
PRODID:-//spbstu.ru//ical//RU
NAME:Расписание группы 3740105/40201
X-WR-CALNAME:Расписание группы 3740105/40201
TIMEZONE-ID:Europe/Moscow
X-WR-TIMEZONE:Europe/Moscow
BEGIN:VEVENT
UID:102n@192.168.245.71:3006
SEQUENCE:0
DTSTAMP:20260424T000448Z
DTSTART:20251208T150000Z
DTEND:20251208T164000Z
SUMMARY:Автоматизация функциональных процессов предприятия
LOCATION:50 уч.к 1104
END:VEVENT
BEGIN:VEVENT
UID:qu5p@192.168.245.71:3006
SEQUENCE:0
DTSTAMP:20260424T000448Z
DTSTART:20251208T170000Z
DTEND:20251208T184000Z
SUMMARY:Автоматизация функциональных процессов предприятия
LOCATION:50 уч.к 1104
END:VEVENT
BEGIN:VEVENT
UID:84rc@192.168.245.71:3006
SEQUENCE:0
DTSTAMP:20260424T000448Z
DTSTART:20251210T150000Z
DTEND:20251210T164000Z
SUMMARY:Автоматизация функциональных процессов предприятия
LOCATION:50 уч.к 1110
END:VEVENT
BEGIN:VEVENT
UID:wzcu@192.168.245.71:3006
SEQUENCE:0
DTSTAMP:20260424T000448Z
DTSTART:20251210T170000Z
DTEND:20251210T184000Z
SUMMARY:Автоматизация функциональных процессов предприятия
LOCATION:50 уч.к 1110
END:VEVENT
BEGIN:VEVENT
UID:7dc7@192.168.245.71:3006
SEQUENCE:0
DTSTAMP:20260424T000448Z
DTSTART:20251212T120000Z
DTEND:20251212T134000Z
SUMMARY:Научно-исследовательская работа
LOCATION:DL Дистанционно
END:VEVENT
END:VCALENDAR