BEGIN:VCALENDAR
VERSION:2.0
PRODID:-//spbstu.ru//ical//RU
NAME:Расписание группы 3742707/40101
X-WR-CALNAME:Расписание группы 3742707/40101
TIMEZONE-ID:Europe/Moscow
X-WR-TIMEZONE:Europe/Moscow
BEGIN:VEVENT
UID:120j@192.168.245.71:3006
SEQUENCE:0
DTSTAMP:20260424T094205Z
DTSTART:20251027T150000Z
DTEND:20251027T164000Z
SUMMARY:Экономика и управление энергосбережением
LOCATION:ТВН 203
END:VEVENT
BEGIN:VEVENT
UID:xggb@192.168.245.71:3006
SEQUENCE:0
DTSTAMP:20260424T094205Z
DTSTART:20251027T170000Z
DTEND:20251027T184000Z
SUMMARY:Экономика и управление энергосбережением
LOCATION:ТВН 203
END:VEVENT
BEGIN:VEVENT
UID:1xn7@192.168.245.71:3006
SEQUENCE:0
DTSTAMP:20260424T094205Z
DTSTART:20251028T150000Z
DTEND:20251028T164000Z
SUMMARY:Научно-исследовательская работа по рынкам энергетических ресурсов 
 и технологий
LOCATION:50 уч.к 1219
END:VEVENT
BEGIN:VEVENT
UID:zxan@192.168.245.71:3006
SEQUENCE:0
DTSTAMP:20260424T094205Z
DTSTART:20251028T170000Z
DTEND:20251028T184000Z
SUMMARY:Научно-исследовательская работа по рынкам энергетических ресурсов 
 и технологий
LOCATION:50 уч.к 1219
END:VEVENT
BEGIN:VEVENT
UID:tdoh@192.168.245.71:3006
SEQUENCE:0
DTSTAMP:20260424T094205Z
DTSTART:20251030T150000Z
DTEND:20251030T164000Z
SUMMARY:Методы исследования данных в энергетике
LOCATION:50 уч.к 1208
END:VEVENT
BEGIN:VEVENT
UID:w5jb@192.168.245.71:3006
SEQUENCE:0
DTSTAMP:20260424T094205Z
DTSTART:20251101T070000Z
DTEND:20251101T084000Z
SUMMARY:Управление затратами и инвестициями
LOCATION:50 уч.к 1427
END:VEVENT
BEGIN:VEVENT
UID:wi71@192.168.245.71:3006
SEQUENCE:0
DTSTAMP:20260424T094205Z
DTSTART:20251101T090000Z
DTEND:20251101T104000Z
SUMMARY:Управление затратами и инвестициями
LOCATION:50 уч.к 1427
END:VEVENT
END:VCALENDAR