BEGIN:VCALENDAR
VERSION:2.0
PRODID:-//spbstu.ru//ical//RU
NAME:Расписание группы 3742707/40101
X-WR-CALNAME:Расписание группы 3742707/40101
TIMEZONE-ID:Europe/Moscow
X-WR-TIMEZONE:Europe/Moscow
BEGIN:VEVENT
UID:27x7@192.168.245.71:3006
SEQUENCE:0
DTSTAMP:20260425T020451Z
DTSTART:20251006T150000Z
DTEND:20251006T164000Z
SUMMARY:Экономика и управление энергосбережением
LOCATION:ТВН 203
END:VEVENT
BEGIN:VEVENT
UID:qrxp@192.168.245.71:3006
SEQUENCE:0
DTSTAMP:20260425T020451Z
DTSTART:20251006T170000Z
DTEND:20251006T184000Z
SUMMARY:Экономика и управление энергосбережением
LOCATION:ТВН 203
END:VEVENT
BEGIN:VEVENT
UID:095k@192.168.245.71:3006
SEQUENCE:0
DTSTAMP:20260425T020451Z
DTSTART:20251007T150000Z
DTEND:20251007T164000Z
SUMMARY:Научно-исследовательская работа по планированию развития ТЭК
LOCATION:50 уч.к 1219
END:VEVENT
BEGIN:VEVENT
UID:0v46@192.168.245.71:3006
SEQUENCE:0
DTSTAMP:20260425T020451Z
DTSTART:20251007T170000Z
DTEND:20251007T184000Z
SUMMARY:Научно-исследовательская работа по планированию развития ТЭК
LOCATION:50 уч.к 1219
END:VEVENT
BEGIN:VEVENT
UID:lb3c@192.168.245.71:3006
SEQUENCE:0
DTSTAMP:20260425T020451Z
DTSTART:20251009T150000Z
DTEND:20251009T164000Z
SUMMARY:Методы исследования данных в энергетике
LOCATION:50 уч.к 1208
END:VEVENT
BEGIN:VEVENT
UID:l0rt@192.168.245.71:3006
SEQUENCE:0
DTSTAMP:20260425T020451Z
DTSTART:20251009T170000Z
DTEND:20251009T184000Z
SUMMARY:Методы исследования данных в энергетике
LOCATION:50 уч.к 1208
END:VEVENT
BEGIN:VEVENT
UID:72b3@192.168.245.71:3006
SEQUENCE:0
DTSTAMP:20260425T020451Z
DTSTART:20251011T070000Z
DTEND:20251011T084000Z
SUMMARY:Управление затратами и инвестициями
LOCATION:50 уч.к 1427
END:VEVENT
BEGIN:VEVENT
UID:k44j@192.168.245.71:3006
SEQUENCE:0
DTSTAMP:20260425T020451Z
DTSTART:20251011T090000Z
DTEND:20251011T104000Z
SUMMARY:Управление затратами и инвестициями
LOCATION:50 уч.к 1427
END:VEVENT
END:VCALENDAR