BEGIN:VCALENDAR
VERSION:2.0
PRODID:-//spbstu.ru//ical//RU
NAME:Расписание группы 3742707/40101
X-WR-CALNAME:Расписание группы 3742707/40101
TIMEZONE-ID:Europe/Moscow
X-WR-TIMEZONE:Europe/Moscow
BEGIN:VEVENT
UID:t62i@192.168.245.71:3006
SEQUENCE:0
DTSTAMP:20260424T043026Z
DTSTART:20251117T150000Z
DTEND:20251117T164000Z
SUMMARY:Экономика и управление энергосбережением
LOCATION:ТВН 203
END:VEVENT
BEGIN:VEVENT
UID:alje@192.168.245.71:3006
SEQUENCE:0
DTSTAMP:20260424T043026Z
DTSTART:20251117T170000Z
DTEND:20251117T184000Z
SUMMARY:Экономика и управление энергосбережением
LOCATION:ТВН 203
END:VEVENT
BEGIN:VEVENT
UID:kojy@192.168.245.71:3006
SEQUENCE:0
DTSTAMP:20260424T043026Z
DTSTART:20251118T150000Z
DTEND:20251118T164000Z
SUMMARY:Научно-исследовательская работа по планированию развития ТЭК
LOCATION:50 уч.к 1219
END:VEVENT
BEGIN:VEVENT
UID:sszc@192.168.245.71:3006
SEQUENCE:0
DTSTAMP:20260424T043026Z
DTSTART:20251118T170000Z
DTEND:20251118T184000Z
SUMMARY:Научно-исследовательская работа по планированию развития ТЭК
LOCATION:50 уч.к 1219
END:VEVENT
BEGIN:VEVENT
UID:uh45@192.168.245.71:3006
SEQUENCE:0
DTSTAMP:20260424T043026Z
DTSTART:20251120T150000Z
DTEND:20251120T164000Z
SUMMARY:Методы исследования данных в энергетике
LOCATION:50 уч.к 1208
END:VEVENT
BEGIN:VEVENT
UID:t9dh@192.168.245.71:3006
SEQUENCE:0
DTSTAMP:20260424T043026Z
DTSTART:20251120T170000Z
DTEND:20251120T184000Z
SUMMARY:Методы исследования данных в энергетике
LOCATION:50 уч.к 1208
END:VEVENT
BEGIN:VEVENT
UID:2fav@192.168.245.71:3006
SEQUENCE:0
DTSTAMP:20260424T043026Z
DTSTART:20251122T070000Z
DTEND:20251122T084000Z
SUMMARY:Управление затратами и инвестициями
LOCATION:50 уч.к 1427
END:VEVENT
BEGIN:VEVENT
UID:ydu3@192.168.245.71:3006
SEQUENCE:0
DTSTAMP:20260424T043026Z
DTSTART:20251122T090000Z
DTEND:20251122T104000Z
SUMMARY:Управление затратами и инвестициями
LOCATION:50 уч.к 1427
END:VEVENT
END:VCALENDAR