BEGIN:VCALENDAR
VERSION:2.0
PRODID:-//spbstu.ru//ical//RU
NAME:Расписание группы 3742707/40101
X-WR-CALNAME:Расписание группы 3742707/40101
TIMEZONE-ID:Europe/Moscow
X-WR-TIMEZONE:Europe/Moscow
BEGIN:VEVENT
UID:cz2b@192.168.245.71:3006
SEQUENCE:0
DTSTAMP:20260424T002534Z
DTSTART:20251124T150000Z
DTEND:20251124T164000Z
SUMMARY:Экономика и управление энергосбережением
LOCATION:ТВН 203
END:VEVENT
BEGIN:VEVENT
UID:9sx5@192.168.245.71:3006
SEQUENCE:0
DTSTAMP:20260424T002534Z
DTSTART:20251125T150000Z
DTEND:20251125T164000Z
SUMMARY:Научно-исследовательская работа по рынкам энергетических ресурсов 
 и технологий
LOCATION:50 уч.к 1219
END:VEVENT
BEGIN:VEVENT
UID:zoa1@192.168.245.71:3006
SEQUENCE:0
DTSTAMP:20260424T002534Z
DTSTART:20251125T170000Z
DTEND:20251125T184000Z
SUMMARY:Научно-исследовательская работа по рынкам энергетических ресурсов 
 и технологий
LOCATION:50 уч.к 1219
END:VEVENT
BEGIN:VEVENT
UID:qeg5@192.168.245.71:3006
SEQUENCE:0
DTSTAMP:20260424T002534Z
DTSTART:20251129T070000Z
DTEND:20251129T084000Z
SUMMARY:Управление затратами и инвестициями
LOCATION:50 уч.к 1427
END:VEVENT
BEGIN:VEVENT
UID:3wct@192.168.245.71:3006
SEQUENCE:0
DTSTAMP:20260424T002534Z
DTSTART:20251129T090000Z
DTEND:20251129T104000Z
SUMMARY:Управление затратами и инвестициями
LOCATION:50 уч.к 1427
END:VEVENT
END:VCALENDAR