BEGIN:VCALENDAR
VERSION:2.0
PRODID:-//spbstu.ru//ical//RU
NAME:Расписание группы 3742707/40101
X-WR-CALNAME:Расписание группы 3742707/40101
TIMEZONE-ID:Europe/Moscow
X-WR-TIMEZONE:Europe/Moscow
BEGIN:VEVENT
UID:d01q@192.168.245.71:3006
SEQUENCE:0
DTSTAMP:20260421T225024Z
DTSTART:20260316T090000Z
DTEND:20260316T104000Z
SUMMARY:Научно-исследовательская работа
LOCATION:50 уч.к 1325
END:VEVENT
END:VCALENDAR