BEGIN:VCALENDAR
VERSION:2.0
PRODID:-//spbstu.ru//ical//RU
NAME:Расписание группы 3742707/40201
X-WR-CALNAME:Расписание группы 3742707/40201
TIMEZONE-ID:Europe/Moscow
X-WR-TIMEZONE:Europe/Moscow
BEGIN:VEVENT
UID:cqvh@192.168.245.71:3006
SEQUENCE:0
DTSTAMP:20260425T231105Z
DTSTART:20251202T150000Z
DTEND:20251202T164000Z
SUMMARY:Экологическая безопасность отраслевых биотехнологий
LOCATION:50 уч.к 1217
END:VEVENT
BEGIN:VEVENT
UID:uhxr@192.168.245.71:3006
SEQUENCE:0
DTSTAMP:20260425T231105Z
DTSTART:20251204T153000Z
DTEND:20251204T170000Z
SUMMARY:Экологический менеджмент
LOCATION:50 уч.к 1218
END:VEVENT
BEGIN:VEVENT
UID:ed4a@192.168.245.71:3006
SEQUENCE:0
DTSTAMP:20260425T231105Z
DTSTART:20251204T171500Z
DTEND:20251204T184500Z
SUMMARY:Экологический менеджмент
LOCATION:50 уч.к 1218
END:VEVENT
BEGIN:VEVENT
UID:78ns@192.168.245.71:3006
SEQUENCE:0
DTSTAMP:20260425T231105Z
DTSTART:20251205T150000Z
DTEND:20251205T164000Z
SUMMARY:Научно-исследовательская работа по кластерной экономике
LOCATION:50 уч.к 1421
END:VEVENT
BEGIN:VEVENT
UID:adud@192.168.245.71:3006
SEQUENCE:0
DTSTAMP:20260425T231105Z
DTSTART:20251205T170000Z
DTEND:20251205T184000Z
SUMMARY:Научно-исследовательская работа по кластерной экономике
LOCATION:50 уч.к 1421
END:VEVENT
BEGIN:VEVENT
UID:xx2p@192.168.245.71:3006
SEQUENCE:0
DTSTAMP:20260425T231105Z
DTSTART:20251206T070000Z
DTEND:20251206T084000Z
SUMMARY:Управление затратами и инвестициями
LOCATION:50 уч.к 1427
END:VEVENT
BEGIN:VEVENT
UID:m7fs@192.168.245.71:3006
SEQUENCE:0
DTSTAMP:20260425T231105Z
DTSTART:20251206T090000Z
DTEND:20251206T104000Z
SUMMARY:Управление затратами и инвестициями
LOCATION:50 уч.к 1427
END:VEVENT
BEGIN:VEVENT
UID:pt5b@192.168.245.71:3006
SEQUENCE:0
DTSTAMP:20260425T231105Z
DTSTART:20251206T110000Z
DTEND:20251206T124000Z
SUMMARY:НИР по управлению проектами транспортировки и переработки отходов
LOCATION:50 уч.к 1423
END:VEVENT
BEGIN:VEVENT
UID:pl28@192.168.245.71:3006
SEQUENCE:0
DTSTAMP:20260425T231105Z
DTSTART:20251206T130000Z
DTEND:20251206T144000Z
SUMMARY:НИР по управлению проектами транспортировки и переработки отходов
LOCATION:50 уч.к 1423
END:VEVENT
END:VCALENDAR