BEGIN:VCALENDAR
VERSION:2.0
PRODID:-//spbstu.ru//ical//RU
NAME:Расписание группы 3742707/40201
X-WR-CALNAME:Расписание группы 3742707/40201
TIMEZONE-ID:Europe/Moscow
X-WR-TIMEZONE:Europe/Moscow
BEGIN:VEVENT
UID:cg65@192.168.245.71:3006
SEQUENCE:0
DTSTAMP:20260423T195351Z
DTSTART:20260316T130000Z
DTEND:20260316T140000Z
SUMMARY:Научно-исследовательская работа
LOCATION:50 уч.к 1323
END:VEVENT
END:VCALENDAR