BEGIN:VCALENDAR
VERSION:2.0
PRODID:-//spbstu.ru//ical//RU
NAME:Расписание группы 3742707/40301
X-WR-CALNAME:Расписание группы 3742707/40301
TIMEZONE-ID:Europe/Moscow
X-WR-TIMEZONE:Europe/Moscow
BEGIN:VEVENT
UID:jyw5@192.168.245.71:3006
SEQUENCE:0
DTSTAMP:20260421T045411Z
DTSTART:20260427T090000Z
DTEND:20260427T104000Z
SUMMARY:Проектная практика по вопросам сотрудничества государства и бизнес
 а в транспортной сфере
LOCATION:50 уч.к 1336а
END:VEVENT
BEGIN:VEVENT
UID:1p46@192.168.245.71:3006
SEQUENCE:0
DTSTAMP:20260421T045411Z
DTSTART:20260427T110000Z
DTEND:20260427T124000Z
SUMMARY:Представление результатов научных исследований
LOCATION:50 уч.к 1249
END:VEVENT
BEGIN:VEVENT
UID:pxm2@192.168.245.71:3006
SEQUENCE:0
DTSTAMP:20260421T045411Z
DTSTART:20260427T130000Z
DTEND:20260427T144000Z
SUMMARY:Представление результатов научных исследований
LOCATION:50 уч.к 1249
END:VEVENT
BEGIN:VEVENT
UID:ac8t@192.168.245.71:3006
SEQUENCE:0
DTSTAMP:20260421T045411Z
DTSTART:20260427T150000Z
DTEND:20260427T164000Z
SUMMARY:Представление результатов научных исследований
LOCATION:50 уч.к 1249
END:VEVENT
BEGIN:VEVENT
UID:i2w6@192.168.245.71:3006
SEQUENCE:0
DTSTAMP:20260421T045411Z
DTSTART:20260428T110000Z
DTEND:20260428T124000Z
SUMMARY:Представление результатов научных исследований
LOCATION:50 уч.к 1230
END:VEVENT
BEGIN:VEVENT
UID:adq6@192.168.245.71:3006
SEQUENCE:0
DTSTAMP:20260421T045411Z
DTSTART:20260429T110000Z
DTEND:20260429T124000Z
SUMMARY:Представление результатов научных исследований
LOCATION:50 уч.к 1249
END:VEVENT
BEGIN:VEVENT
UID:cpqq@192.168.245.71:3006
SEQUENCE:0
DTSTAMP:20260421T045411Z
DTSTART:20260429T110100Z
DTEND:20260429T124000Z
SUMMARY:Научно-исследовательская работа
LOCATION:50 уч.к 1249
END:VEVENT
BEGIN:VEVENT
UID:0kw7@192.168.245.71:3006
SEQUENCE:0
DTSTAMP:20260421T045411Z
DTSTART:20260429T110200Z
DTEND:20260429T124000Z
SUMMARY:Преддипломная практика
LOCATION:50 уч.к 1249
END:VEVENT
BEGIN:VEVENT
UID:jba0@192.168.245.71:3006
SEQUENCE:0
DTSTAMP:20260421T045411Z
DTSTART:20260430T090000Z
DTEND:20260430T104000Z
SUMMARY:Представление результатов научных исследований
LOCATION:50 уч.к 1245
END:VEVENT
BEGIN:VEVENT
UID:w5yz@192.168.245.71:3006
SEQUENCE:0
DTSTAMP:20260421T045411Z
DTSTART:20260430T090100Z
DTEND:20260430T104000Z
SUMMARY:Научно-исследовательская работа
LOCATION:50 уч.к 1245
END:VEVENT
BEGIN:VEVENT
UID:yiz7@192.168.245.71:3006
SEQUENCE:0
DTSTAMP:20260421T045411Z
DTSTART:20260430T090200Z
DTEND:20260430T104000Z
SUMMARY:Преддипломная практика
LOCATION:50 уч.к 1245
END:VEVENT
END:VCALENDAR