BEGIN:VCALENDAR
VERSION:2.0
PRODID:-//spbstu.ru//ical//RU
NAME:Расписание группы 3743802/42601
X-WR-CALNAME:Расписание группы 3743802/42601
TIMEZONE-ID:Europe/Moscow
X-WR-TIMEZONE:Europe/Moscow
BEGIN:VEVENT
UID:twer@192.168.245.71:3006
SEQUENCE:0
DTSTAMP:20260425T160610Z
DTSTART:20251027T130000Z
DTEND:20251027T144000Z
SUMMARY:Корпоративные финансы
LOCATION:50 уч.к 1338
END:VEVENT
BEGIN:VEVENT
UID:rfmz@192.168.245.71:3006
SEQUENCE:0
DTSTAMP:20260425T160610Z
DTSTART:20251027T150000Z
DTEND:20251027T164000Z
SUMMARY:Корпоративные финансы
LOCATION:50 уч.к 1205
END:VEVENT
BEGIN:VEVENT
UID:934w@192.168.245.71:3006
SEQUENCE:0
DTSTAMP:20260425T160610Z
DTSTART:20251027T170000Z
DTEND:20251027T184000Z
SUMMARY:Корпоративные финансы
LOCATION:50 уч.к 1205
END:VEVENT
BEGIN:VEVENT
UID:ilkq@192.168.245.71:3006
SEQUENCE:0
DTSTAMP:20260425T160610Z
DTSTART:20251028T150000Z
DTEND:20251028T164000Z
SUMMARY:Интернет-предпринимательство
LOCATION:50 уч.к 1109
END:VEVENT
BEGIN:VEVENT
UID:rmao@192.168.245.71:3006
SEQUENCE:0
DTSTAMP:20260425T160610Z
DTSTART:20251028T170000Z
DTEND:20251028T184000Z
SUMMARY:Интернет-предпринимательство
LOCATION:50 уч.к 1109
END:VEVENT
BEGIN:VEVENT
UID:4ml2@192.168.245.71:3006
SEQUENCE:0
DTSTAMP:20260425T160610Z
DTSTART:20251029T150000Z
DTEND:20251029T164000Z
SUMMARY:Информационные системы в маркетинге
LOCATION:50 уч.к 1211
END:VEVENT
BEGIN:VEVENT
UID:qwf3@192.168.245.71:3006
SEQUENCE:0
DTSTAMP:20260425T160610Z
DTSTART:20251029T170000Z
DTEND:20251029T184000Z
SUMMARY:Информационные системы в маркетинге
LOCATION:50 уч.к 1211
END:VEVENT
BEGIN:VEVENT
UID:1fp6@192.168.245.71:3006
SEQUENCE:0
DTSTAMP:20260425T160610Z
DTSTART:20251031T130000Z
DTEND:20251031T144000Z
SUMMARY:Маркетинговое управление ценообразованием
LOCATION:50 уч.к 1107
END:VEVENT
BEGIN:VEVENT
UID:1xuu@192.168.245.71:3006
SEQUENCE:0
DTSTAMP:20260425T160610Z
DTSTART:20251031T150000Z
DTEND:20251031T164000Z
SUMMARY:Маркетинговое управление ценообразованием
LOCATION:50 уч.к 1113
END:VEVENT
BEGIN:VEVENT
UID:tesz@192.168.245.71:3006
SEQUENCE:0
DTSTAMP:20260425T160610Z
DTSTART:20251031T170000Z
DTEND:20251031T184000Z
SUMMARY:НИР (рассредоточенная)\, часть 3
LOCATION:50 уч.к 1113
END:VEVENT
END:VCALENDAR