BEGIN:VCALENDAR
VERSION:2.0
PRODID:-//spbstu.ru//ical//RU
NAME:Расписание группы 3743802/42601
X-WR-CALNAME:Расписание группы 3743802/42601
TIMEZONE-ID:Europe/Moscow
X-WR-TIMEZONE:Europe/Moscow
BEGIN:VEVENT
UID:60zs@192.168.245.71:3006
SEQUENCE:0
DTSTAMP:20260424T144454Z
DTSTART:20251215T150000Z
DTEND:20251215T164000Z
SUMMARY:Управление продажами
LOCATION:50 уч.к 1104
END:VEVENT
BEGIN:VEVENT
UID:h11u@192.168.245.71:3006
SEQUENCE:0
DTSTAMP:20260424T144454Z
DTSTART:20251215T170000Z
DTEND:20251215T184000Z
SUMMARY:Управление продажами
LOCATION:50 уч.к 1104
END:VEVENT
BEGIN:VEVENT
UID:l3ld@192.168.245.71:3006
SEQUENCE:0
DTSTAMP:20260424T144454Z
DTSTART:20251217T150000Z
DTEND:20251217T164000Z
SUMMARY:Маркетинговое управление ценообразованием
LOCATION:50 уч.к 1326
END:VEVENT
BEGIN:VEVENT
UID:197g@192.168.245.71:3006
SEQUENCE:0
DTSTAMP:20260424T144454Z
DTSTART:20251218T150000Z
DTEND:20251218T164000Z
SUMMARY:Интернет-предпринимательство
LOCATION:50 уч.к 1325
END:VEVENT
BEGIN:VEVENT
UID:jyyg@192.168.245.71:3006
SEQUENCE:0
DTSTAMP:20260424T144454Z
DTSTART:20251219T150000Z
DTEND:20251219T164000Z
SUMMARY:Информационные системы в маркетинге
LOCATION:50 уч.к 1336а
END:VEVENT
END:VCALENDAR