BEGIN:VCALENDAR
VERSION:2.0
PRODID:-//spbstu.ru//ical//RU
NAME:Расписание группы 3743802/42601
X-WR-CALNAME:Расписание группы 3743802/42601
TIMEZONE-ID:Europe/Moscow
X-WR-TIMEZONE:Europe/Moscow
BEGIN:VEVENT
UID:z7me@192.168.245.71:3006
SEQUENCE:0
DTSTAMP:20260423T043622Z
DTSTART:20260119T143100Z
DTEND:20260119T153000Z
SUMMARY:Интернет-предпринимательство
LOCATION:50 уч.к 1107
END:VEVENT
BEGIN:VEVENT
UID:1v5j@192.168.245.71:3006
SEQUENCE:0
DTSTAMP:20260423T043622Z
DTSTART:20260119T153100Z
DTEND:20260119T185500Z
SUMMARY:Интернет-предпринимательство
LOCATION:50 уч.к 1107
END:VEVENT
BEGIN:VEVENT
UID:vo3i@192.168.245.71:3006
SEQUENCE:0
DTSTAMP:20260423T043622Z
DTSTART:20260121T130000Z
DTEND:20260121T133000Z
SUMMARY:Корпоративные финансы
LOCATION:50 уч.к 1110
END:VEVENT
BEGIN:VEVENT
UID:rma4@192.168.245.71:3006
SEQUENCE:0
DTSTAMP:20260423T043622Z
DTSTART:20260121T133100Z
DTEND:20260121T144000Z
SUMMARY:Корпоративные финансы
LOCATION:50 уч.к 1110
END:VEVENT
BEGIN:VEVENT
UID:y8ev@192.168.245.71:3006
SEQUENCE:0
DTSTAMP:20260423T043622Z
DTSTART:20260122T150000Z
DTEND:20260122T153000Z
SUMMARY:Информационные системы в маркетинге
LOCATION:50 уч.к 1211
END:VEVENT
BEGIN:VEVENT
UID:il8o@192.168.245.71:3006
SEQUENCE:0
DTSTAMP:20260423T043622Z
DTSTART:20260122T153100Z
DTEND:20260122T170000Z
SUMMARY:Информационные системы в маркетинге
LOCATION:50 уч.к 1211
END:VEVENT
END:VCALENDAR