BEGIN:VCALENDAR
VERSION:2.0
PRODID:-//spbstu.ru//ical//RU
NAME:Расписание группы 3743802/43001
X-WR-CALNAME:Расписание группы 3743802/43001
TIMEZONE-ID:Europe/Moscow
X-WR-TIMEZONE:Europe/Moscow
BEGIN:VEVENT
UID:p608@192.168.245.71:3006
SEQUENCE:0
DTSTAMP:20260424T202947Z
DTSTART:20251028T130000Z
DTEND:20251028T144000Z
SUMMARY:НИР (рассредоточенная)\, часть 3
LOCATION:50 уч.к 1317
END:VEVENT
BEGIN:VEVENT
UID:b2ux@192.168.245.71:3006
SEQUENCE:0
DTSTAMP:20260424T202947Z
DTSTART:20251028T150000Z
DTEND:20251028T164000Z
SUMMARY:Корпоративные финансы (на английском языке)
LOCATION:50 уч.к 1424
END:VEVENT
BEGIN:VEVENT
UID:sjzf@192.168.245.71:3006
SEQUENCE:0
DTSTAMP:20260424T202947Z
DTSTART:20251029T090000Z
DTEND:20251029T100000Z
SUMMARY:Управление инвестициями (на английском языке)
LOCATION:50 уч.к 1423
END:VEVENT
BEGIN:VEVENT
UID:6p89@192.168.245.71:3006
SEQUENCE:0
DTSTAMP:20260424T202947Z
DTSTART:20251029T090100Z
DTEND:20251029T100000Z
SUMMARY:Исследование международных рынков (на английском языке)
LOCATION:50 уч.к 1423
END:VEVENT
BEGIN:VEVENT
UID:bbme@192.168.245.71:3006
SEQUENCE:0
DTSTAMP:20260424T202947Z
DTSTART:20251029T090200Z
DTEND:20251029T100000Z
SUMMARY:Международный контроллинг (на английском языке)
LOCATION:50 уч.к 1423
END:VEVENT
BEGIN:VEVENT
UID:637k@192.168.245.71:3006
SEQUENCE:0
DTSTAMP:20260424T202947Z
DTSTART:20251029T090300Z
DTEND:20251029T100000Z
SUMMARY:Управление инновационным проектом (на английском языке)
LOCATION:50 уч.к 1423
END:VEVENT
BEGIN:VEVENT
UID:ulqn@192.168.245.71:3006
SEQUENCE:0
DTSTAMP:20260424T202947Z
DTSTART:20251029T090400Z
DTEND:20251029T100000Z
SUMMARY:НИР (рассредоточенная)\, часть 2
LOCATION:50 уч.к 1423
END:VEVENT
BEGIN:VEVENT
UID:vql1@192.168.245.71:3006
SEQUENCE:0
DTSTAMP:20260424T202947Z
DTSTART:20251029T090500Z
DTEND:20251029T100000Z
SUMMARY:Межкультурный менеджмент (на английском языке)
LOCATION:50 уч.к 1423
END:VEVENT
BEGIN:VEVENT
UID:4dk6@192.168.245.71:3006
SEQUENCE:0
DTSTAMP:20260424T202947Z
DTSTART:20251029T090600Z
DTEND:20251029T100000Z
SUMMARY:Ознакомительная практика
LOCATION:50 уч.к 1423
END:VEVENT
BEGIN:VEVENT
UID:mvjr@192.168.245.71:3006
SEQUENCE:0
DTSTAMP:20260424T202947Z
DTSTART:20251029T150000Z
DTEND:20251029T164000Z
SUMMARY:Международный маркетинг менеджмент (на английском языке)
LOCATION:50 уч.к 1424
END:VEVENT
BEGIN:VEVENT
UID:nil8@192.168.245.71:3006
SEQUENCE:0
DTSTAMP:20260424T202947Z
DTSTART:20251029T170000Z
DTEND:20251029T184000Z
SUMMARY:Международный маркетинг менеджмент (на английском языке)
LOCATION:50 уч.к 1424
END:VEVENT
BEGIN:VEVENT
UID:mjp0@192.168.245.71:3006
SEQUENCE:0
DTSTAMP:20260424T202947Z
DTSTART:20251030T150000Z
DTEND:20251030T164000Z
SUMMARY:Управление экспортом и международными продажами (на английском язы
 ке)
LOCATION:50 уч.к 1427
END:VEVENT
BEGIN:VEVENT
UID:i9a0@192.168.245.71:3006
SEQUENCE:0
DTSTAMP:20260424T202947Z
DTSTART:20251030T170000Z
DTEND:20251030T184000Z
SUMMARY:Управление экспортом и международными продажами (на английском язы
 ке)
LOCATION:50 уч.к 1427
END:VEVENT
BEGIN:VEVENT
UID:fy53@192.168.245.71:3006
SEQUENCE:0
DTSTAMP:20260424T202947Z
DTSTART:20251101T070000Z
DTEND:20251101T084000Z
SUMMARY:Управление цепью поставок и международными закупками (на английско
 м языке)
LOCATION:50 уч.к 1328
END:VEVENT
BEGIN:VEVENT
UID:8fob@192.168.245.71:3006
SEQUENCE:0
DTSTAMP:20260424T202947Z
DTSTART:20251101T090000Z
DTEND:20251101T104000Z
SUMMARY:Управление цепью поставок и международными закупками (на английско
 м языке)
LOCATION:50 уч.к 1318
END:VEVENT
END:VCALENDAR