BEGIN:VCALENDAR
VERSION:2.0
PRODID:-//spbstu.ru//ical//RU
NAME:Расписание группы 3743802/45002
X-WR-CALNAME:Расписание группы 3743802/45002
TIMEZONE-ID:Europe/Moscow
X-WR-TIMEZONE:Europe/Moscow
BEGIN:VEVENT
UID:luwf@192.168.245.71:3006
SEQUENCE:0
DTSTAMP:20260423T214118Z
DTSTART:20251222T170000Z
DTEND:20251222T184000Z
SUMMARY:НИР (рассредоточенная)\, часть 3
LOCATION:50 уч.к 1427
END:VEVENT
BEGIN:VEVENT
UID:xu4z@192.168.245.71:3006
SEQUENCE:0
DTSTAMP:20260423T214118Z
DTSTART:20251224T150000Z
DTEND:20251224T164000Z
SUMMARY:Автоматизация бизнес-процессов
LOCATION:50 уч.к 1103
END:VEVENT
BEGIN:VEVENT
UID:5slm@192.168.245.71:3006
SEQUENCE:0
DTSTAMP:20260423T214118Z
DTSTART:20251227T110000Z
DTEND:20251227T124000Z
SUMMARY:Цифровой маркетинг
LOCATION:50 уч.к 1211
END:VEVENT
END:VCALENDAR