BEGIN:VCALENDAR
VERSION:2.0
PRODID:-//spbstu.ru//ical//RU
NAME:Расписание группы 3743802/45002
X-WR-CALNAME:Расписание группы 3743802/45002
TIMEZONE-ID:Europe/Moscow
X-WR-TIMEZONE:Europe/Moscow
BEGIN:VEVENT
UID:uioc@192.168.245.71:3006
SEQUENCE:0
DTSTAMP:20260426T042213Z
DTSTART:20250929T130000Z
DTEND:20250929T144000Z
SUMMARY:Корпоративные финансы
LOCATION:50 уч.к 1111
END:VEVENT
BEGIN:VEVENT
UID:vgox@192.168.245.71:3006
SEQUENCE:0
DTSTAMP:20260426T042213Z
DTSTART:20251001T160000Z
DTEND:20251001T174000Z
SUMMARY:Автоматизация бизнес-процессов
LOCATION:DL Дистанционно
END:VEVENT
BEGIN:VEVENT
UID:fhhp@192.168.245.71:3006
SEQUENCE:0
DTSTAMP:20260426T042213Z
DTSTART:20251004T110000Z
DTEND:20251004T124000Z
SUMMARY:Архитектура предприятия
LOCATION:50 уч.к 1336
END:VEVENT
BEGIN:VEVENT
UID:keqg@192.168.245.71:3006
SEQUENCE:0
DTSTAMP:20260426T042213Z
DTSTART:20251004T130000Z
DTEND:20251004T144000Z
SUMMARY:Архитектура предприятия
LOCATION:50 уч.к 1336
END:VEVENT
END:VCALENDAR