BEGIN:VCALENDAR
VERSION:2.0
PRODID:-//spbstu.ru//ical//RU
NAME:Расписание группы 3743802/45002
X-WR-CALNAME:Расписание группы 3743802/45002
TIMEZONE-ID:Europe/Moscow
X-WR-TIMEZONE:Europe/Moscow
BEGIN:VEVENT
UID:naia@192.168.245.71:3006
SEQUENCE:0
DTSTAMP:20260422T123218Z
DTSTART:20260522T150000Z
DTEND:20260522T164000Z
SUMMARY:Оформление и представление результатов исследований
LOCATION:50 уч.к 1249
END:VEVENT
BEGIN:VEVENT
UID:nbz9@192.168.245.71:3006
SEQUENCE:0
DTSTAMP:20260422T123218Z
DTSTART:20260522T170000Z
DTEND:20260522T184000Z
SUMMARY:Оформление и представление результатов исследований
LOCATION:50 уч.к 1249
END:VEVENT
END:VCALENDAR