BEGIN:VCALENDAR
VERSION:2.0
PRODID:-//spbstu.ru//ical//RU
NAME:Расписание группы 3743804/40101
X-WR-CALNAME:Расписание группы 3743804/40101
TIMEZONE-ID:Europe/Moscow
X-WR-TIMEZONE:Europe/Moscow
BEGIN:VEVENT
UID:2ehk@192.168.245.71:3006
SEQUENCE:0
DTSTAMP:20260424T233941Z
DTSTART:20260119T150000Z
DTEND:20260119T153000Z
SUMMARY:Управление государственными и муниципальными инвестиционными проек
 тами
LOCATION:50 уч.к 1235
END:VEVENT
BEGIN:VEVENT
UID:je7z@192.168.245.71:3006
SEQUENCE:0
DTSTAMP:20260424T233941Z
DTSTART:20260119T153100Z
DTEND:20260119T170000Z
SUMMARY:Управление государственными и муниципальными инвестиционными проек
 тами
LOCATION:50 уч.к 1235
END:VEVENT
BEGIN:VEVENT
UID:gaa1@192.168.245.71:3006
SEQUENCE:0
DTSTAMP:20260424T233941Z
DTSTART:20260122T150000Z
DTEND:20260122T153000Z
SUMMARY:Демографическая политика
LOCATION:50 уч.к 1231
END:VEVENT
BEGIN:VEVENT
UID:5u51@192.168.245.71:3006
SEQUENCE:0
DTSTAMP:20260424T233941Z
DTSTART:20260122T153100Z
DTEND:20260122T170000Z
SUMMARY:Демографическая политика
LOCATION:50 уч.к 1231
END:VEVENT
END:VCALENDAR