BEGIN:VCALENDAR
VERSION:2.0
PRODID:-//spbstu.ru//ical//RU
NAME:Расписание группы 3743804/40101
X-WR-CALNAME:Расписание группы 3743804/40101
TIMEZONE-ID:Europe/Moscow
X-WR-TIMEZONE:Europe/Moscow
BEGIN:VEVENT
UID:jtvi@192.168.245.71:3006
SEQUENCE:0
DTSTAMP:20260423T205457Z
DTSTART:20260522T130000Z
DTEND:20260522T144000Z
SUMMARY:Представление результатов научных исследований
LOCATION:50 уч.к 1424
END:VEVENT
BEGIN:VEVENT
UID:a8s6@192.168.245.71:3006
SEQUENCE:0
DTSTAMP:20260423T205457Z
DTSTART:20260522T150000Z
DTEND:20260522T164000Z
SUMMARY:Представление результатов научных исследований
LOCATION:50 уч.к 1424
END:VEVENT
BEGIN:VEVENT
UID:nse0@192.168.245.71:3006
SEQUENCE:0
DTSTAMP:20260423T205457Z
DTSTART:20260522T170000Z
DTEND:20260522T184000Z
SUMMARY:Представление результатов научных исследований
LOCATION:50 уч.к 1424
END:VEVENT
END:VCALENDAR