BEGIN:VCALENDAR
VERSION:2.0
PRODID:-//spbstu.ru//ical//RU
NAME:Расписание группы 3743804/40101
X-WR-CALNAME:Расписание группы 3743804/40101
TIMEZONE-ID:Europe/Moscow
X-WR-TIMEZONE:Europe/Moscow
BEGIN:VEVENT
UID:shfx@192.168.245.71:3006
SEQUENCE:0
DTSTAMP:20260424T022826Z
DTSTART:20260525T150000Z
DTEND:20260525T164000Z
SUMMARY:Представление результатов научных исследований
LOCATION:50 уч.к 1328
END:VEVENT
BEGIN:VEVENT
UID:8cou@192.168.245.71:3006
SEQUENCE:0
DTSTAMP:20260424T022826Z
DTSTART:20260525T170000Z
DTEND:20260525T184000Z
SUMMARY:Представление результатов научных исследований
LOCATION:50 уч.к 1328
END:VEVENT
BEGIN:VEVENT
UID:qjjh@192.168.245.71:3006
SEQUENCE:0
DTSTAMP:20260424T022826Z
DTSTART:20260526T150000Z
DTEND:20260526T164000Z
SUMMARY:Представление результатов научных исследований
LOCATION:50 уч.к 1250
END:VEVENT
BEGIN:VEVENT
UID:jyip@192.168.245.71:3006
SEQUENCE:0
DTSTAMP:20260424T022826Z
DTSTART:20260526T170000Z
DTEND:20260526T184000Z
SUMMARY:Представление результатов научных исследований
LOCATION:50 уч.к 1250
END:VEVENT
BEGIN:VEVENT
UID:zovw@192.168.245.71:3006
SEQUENCE:0
DTSTAMP:20260424T022826Z
DTSTART:20260528T150000Z
DTEND:20260528T164000Z
SUMMARY:Представление результатов научных исследований
LOCATION:50 уч.к 1249
END:VEVENT
BEGIN:VEVENT
UID:gef4@192.168.245.71:3006
SEQUENCE:0
DTSTAMP:20260424T022826Z
DTSTART:20260528T170000Z
DTEND:20260528T184000Z
SUMMARY:Представление результатов научных исследований
LOCATION:50 уч.к 1249
END:VEVENT
BEGIN:VEVENT
UID:uafl@192.168.245.71:3006
SEQUENCE:0
DTSTAMP:20260424T022826Z
DTSTART:20260529T130000Z
DTEND:20260529T144000Z
SUMMARY:Представление результатов научных исследований
LOCATION:50 уч.к 1331
END:VEVENT
END:VCALENDAR