BEGIN:VCALENDAR
VERSION:2.0
PRODID:-//spbstu.ru//ical//RU
NAME:Расписание группы 3753802/40001
X-WR-CALNAME:Расписание группы 3753802/40001
TIMEZONE-ID:Europe/Moscow
X-WR-TIMEZONE:Europe/Moscow
BEGIN:VEVENT
UID:fguk@192.168.245.71:3006
SEQUENCE:0
DTSTAMP:20260424T040526Z
DTSTART:20251006T090000Z
DTEND:20251006T104000Z
SUMMARY:Элективная физическая культура и спорт
LOCATION:СК Спортивный зал
END:VEVENT
BEGIN:VEVENT
UID:5ijd@192.168.245.71:3006
SEQUENCE:0
DTSTAMP:20260424T040526Z
DTSTART:20251006T110000Z
DTEND:20251006T124000Z
SUMMARY:Иностранный язык: деловая коммуникация
LOCATION:16 к. 411
END:VEVENT
BEGIN:VEVENT
UID:8d9l@192.168.245.71:3006
SEQUENCE:0
DTSTAMP:20260424T040526Z
DTSTART:20251007T070000Z
DTEND:20251007T084000Z
SUMMARY:Менеджмент
LOCATION:50 уч.к 1105
END:VEVENT
BEGIN:VEVENT
UID:n8al@192.168.245.71:3006
SEQUENCE:0
DTSTAMP:20260424T040526Z
DTSTART:20251007T090000Z
DTEND:20251007T104000Z
SUMMARY:Регионоведение
LOCATION:50 уч.к 1230
END:VEVENT
BEGIN:VEVENT
UID:8vqs@192.168.245.71:3006
SEQUENCE:0
DTSTAMP:20260424T040526Z
DTSTART:20251007T110000Z
DTEND:20251007T124000Z
SUMMARY:Теория вероятностей
LOCATION:50 уч.к 1111
END:VEVENT
BEGIN:VEVENT
UID:7ccl@192.168.245.71:3006
SEQUENCE:0
DTSTAMP:20260424T040526Z
DTSTART:20251007T130000Z
DTEND:20251007T144000Z
SUMMARY:История России
LOCATION:50 уч.к 1111
END:VEVENT
BEGIN:VEVENT
UID:3uz8@192.168.245.71:3006
SEQUENCE:0
DTSTAMP:20260424T040526Z
DTSTART:20251008T070000Z
DTEND:20251008T084000Z
SUMMARY:Второй иностранный язык (китайский): базовая подготовка
LOCATION:50 уч.к 1428
END:VEVENT
BEGIN:VEVENT
UID:cob3@192.168.245.71:3006
SEQUENCE:0
DTSTAMP:20260424T040526Z
DTSTART:20251008T090000Z
DTEND:20251008T104000Z
SUMMARY:Второй иностранный язык (китайский): базовая подготовка
LOCATION:50 уч.к 1230
END:VEVENT
BEGIN:VEVENT
UID:m0gw@192.168.245.71:3006
SEQUENCE:0
DTSTAMP:20260424T040526Z
DTSTART:20251008T110000Z
DTEND:20251008T124000Z
SUMMARY:Маркетинг
LOCATION:50 уч.к 1214
END:VEVENT
BEGIN:VEVENT
UID:emps@192.168.245.71:3006
SEQUENCE:0
DTSTAMP:20260424T040526Z
DTSTART:20251009T070000Z
DTEND:20251009T084000Z
SUMMARY:Цифровая аналитика
LOCATION:50 уч.к 1107
END:VEVENT
BEGIN:VEVENT
UID:d50b@192.168.245.71:3006
SEQUENCE:0
DTSTAMP:20260424T040526Z
DTSTART:20251009T090000Z
DTEND:20251009T104000Z
SUMMARY:История России
LOCATION:50 уч.к 1327
END:VEVENT
BEGIN:VEVENT
UID:au5q@192.168.245.71:3006
SEQUENCE:0
DTSTAMP:20260424T040526Z
DTSTART:20251009T110000Z
DTEND:20251009T124000Z
SUMMARY:Элективная физическая культура и спорт
LOCATION:СК Спортивный зал
END:VEVENT
BEGIN:VEVENT
UID:0mqz@192.168.245.71:3006
SEQUENCE:0
DTSTAMP:20260424T040526Z
DTSTART:20251011T090000Z
DTEND:20251011T104000Z
SUMMARY:Бухгалтерский учет
LOCATION:50 уч.к 1418
END:VEVENT
BEGIN:VEVENT
UID:qbuv@192.168.245.71:3006
SEQUENCE:0
DTSTAMP:20260424T040526Z
DTSTART:20251011T110000Z
DTEND:20251011T124000Z
SUMMARY:Теория вероятностей
LOCATION:50 уч.к 1248
END:VEVENT
END:VCALENDAR