BEGIN:VCALENDAR
VERSION:2.0
PRODID:-//spbstu.ru//ical//RU
NAME:Расписание группы 3753802/40001
X-WR-CALNAME:Расписание группы 3753802/40001
TIMEZONE-ID:Europe/Moscow
X-WR-TIMEZONE:Europe/Moscow
BEGIN:VEVENT
UID:g6fn@192.168.245.71:3006
SEQUENCE:0
DTSTAMP:20260424T112613Z
DTSTART:20250922T090000Z
DTEND:20250922T104000Z
SUMMARY:Элективная физическая культура и спорт
LOCATION:СК Спортивный зал
END:VEVENT
BEGIN:VEVENT
UID:6hyo@192.168.245.71:3006
SEQUENCE:0
DTSTAMP:20260424T112613Z
DTSTART:20250922T110000Z
DTEND:20250922T124000Z
SUMMARY:Иностранный язык: деловая коммуникация
LOCATION:16 к. 411
END:VEVENT
BEGIN:VEVENT
UID:w1u2@192.168.245.71:3006
SEQUENCE:0
DTSTAMP:20260424T112613Z
DTSTART:20250923T070000Z
DTEND:20250923T084000Z
SUMMARY:Менеджмент
LOCATION:50 уч.к 1245
END:VEVENT
BEGIN:VEVENT
UID:l302@192.168.245.71:3006
SEQUENCE:0
DTSTAMP:20260424T112613Z
DTSTART:20250923T090000Z
DTEND:20250923T104000Z
SUMMARY:Регионоведение
LOCATION:50 уч.к 1230
END:VEVENT
BEGIN:VEVENT
UID:sbbn@192.168.245.71:3006
SEQUENCE:0
DTSTAMP:20260424T112613Z
DTSTART:20250923T110000Z
DTEND:20250923T124000Z
SUMMARY:Теория вероятностей
LOCATION:50 уч.к 1111
END:VEVENT
BEGIN:VEVENT
UID:4zup@192.168.245.71:3006
SEQUENCE:0
DTSTAMP:20260424T112613Z
DTSTART:20250923T130000Z
DTEND:20250923T144000Z
SUMMARY:История России
LOCATION:50 уч.к 1111
END:VEVENT
BEGIN:VEVENT
UID:ud2c@192.168.245.71:3006
SEQUENCE:0
DTSTAMP:20260424T112613Z
DTSTART:20250924T070000Z
DTEND:20250924T084000Z
SUMMARY:Второй иностранный язык (китайский): базовая подготовка
LOCATION:50 уч.к 1428
END:VEVENT
BEGIN:VEVENT
UID:qxtj@192.168.245.71:3006
SEQUENCE:0
DTSTAMP:20260424T112613Z
DTSTART:20250924T090000Z
DTEND:20250924T104000Z
SUMMARY:Второй иностранный язык (китайский): базовая подготовка
LOCATION:50 уч.к 1230
END:VEVENT
BEGIN:VEVENT
UID:1aa3@192.168.245.71:3006
SEQUENCE:0
DTSTAMP:20260424T112613Z
DTSTART:20250924T110000Z
DTEND:20250924T124000Z
SUMMARY:Маркетинг
LOCATION:50 уч.к 1214
END:VEVENT
BEGIN:VEVENT
UID:nmsb@192.168.245.71:3006
SEQUENCE:0
DTSTAMP:20260424T112613Z
DTSTART:20250925T070000Z
DTEND:20250925T084000Z
SUMMARY:Цифровая аналитика
LOCATION:50 уч.к 1107
END:VEVENT
BEGIN:VEVENT
UID:kidh@192.168.245.71:3006
SEQUENCE:0
DTSTAMP:20260424T112613Z
DTSTART:20250925T090000Z
DTEND:20250925T104000Z
SUMMARY:История России
LOCATION:50 уч.к 1327
END:VEVENT
BEGIN:VEVENT
UID:wotg@192.168.245.71:3006
SEQUENCE:0
DTSTAMP:20260424T112613Z
DTSTART:20250925T110000Z
DTEND:20250925T124000Z
SUMMARY:Элективная физическая культура и спорт
LOCATION:СК Спортивный зал
END:VEVENT
BEGIN:VEVENT
UID:oqzw@192.168.245.71:3006
SEQUENCE:0
DTSTAMP:20260424T112613Z
DTSTART:20250927T090000Z
DTEND:20250927T104000Z
SUMMARY:Бухгалтерский учет
LOCATION:50 уч.к 1418
END:VEVENT
BEGIN:VEVENT
UID:ntrx@192.168.245.71:3006
SEQUENCE:0
DTSTAMP:20260424T112613Z
DTSTART:20250927T110000Z
DTEND:20250927T124000Z
SUMMARY:Теория вероятностей
LOCATION:50 уч.к 1248
END:VEVENT
END:VCALENDAR