BEGIN:VCALENDAR
VERSION:2.0
PRODID:-//spbstu.ru//ical//RU
NAME:Расписание группы 3753802/40001
X-WR-CALNAME:Расписание группы 3753802/40001
TIMEZONE-ID:Europe/Moscow
X-WR-TIMEZONE:Europe/Moscow
BEGIN:VEVENT
UID:t0xm@192.168.245.71:3006
SEQUENCE:0
DTSTAMP:20260422T071007Z
DTSTART:20260216T070000Z
DTEND:20260216T084000Z
SUMMARY:Безопасность жизнедеятельности
LOCATION:50 уч.к 1424
END:VEVENT
BEGIN:VEVENT
UID:b7yt@192.168.245.71:3006
SEQUENCE:0
DTSTAMP:20260422T071007Z
DTSTART:20260216T090000Z
DTEND:20260216T104000Z
SUMMARY:Элективная  физическая культура и спорт
LOCATION:СК Спортивный зал
END:VEVENT
BEGIN:VEVENT
UID:rcij@192.168.245.71:3006
SEQUENCE:0
DTSTAMP:20260422T071007Z
DTSTART:20260216T150000Z
DTEND:20260216T164000Z
SUMMARY:Статистика
LOCATION:ГЗ 215
END:VEVENT
BEGIN:VEVENT
UID:1xfx@192.168.245.71:3006
SEQUENCE:0
DTSTAMP:20260422T071007Z
DTSTART:20260217T090000Z
DTEND:20260217T104000Z
SUMMARY:Мировая экономика
LOCATION:50 уч.к 1251
END:VEVENT
BEGIN:VEVENT
UID:5uet@192.168.245.71:3006
SEQUENCE:0
DTSTAMP:20260422T071007Z
DTSTART:20260217T110000Z
DTEND:20260217T124000Z
SUMMARY:Основы таможенного дела
LOCATION:50 уч.к 1225
END:VEVENT
BEGIN:VEVENT
UID:p85d@192.168.245.71:3006
SEQUENCE:0
DTSTAMP:20260422T071007Z
DTSTART:20260217T130000Z
DTEND:20260217T144000Z
SUMMARY:Мировая экономика
LOCATION:50 уч.к 1250
END:VEVENT
BEGIN:VEVENT
UID:h12c@192.168.245.71:3006
SEQUENCE:0
DTSTAMP:20260422T071007Z
DTSTART:20260218T070000Z
DTEND:20260218T084000Z
SUMMARY:Международное торговое право
LOCATION:50 уч.к 1251
END:VEVENT
BEGIN:VEVENT
UID:0ho1@192.168.245.71:3006
SEQUENCE:0
DTSTAMP:20260422T071007Z
DTSTART:20260218T090000Z
DTEND:20260218T104000Z
SUMMARY:Международное торговое право
LOCATION:50 уч.к 1251
END:VEVENT
BEGIN:VEVENT
UID:4dlj@192.168.245.71:3006
SEQUENCE:0
DTSTAMP:20260422T071007Z
DTSTART:20260218T110000Z
DTEND:20260218T124000Z
SUMMARY:Информационная безопасность
LOCATION:50 уч.к 1210
END:VEVENT
BEGIN:VEVENT
UID:y8ln@192.168.245.71:3006
SEQUENCE:0
DTSTAMP:20260422T071007Z
DTSTART:20260218T130000Z
DTEND:20260218T144000Z
SUMMARY:Информационная безопасность
LOCATION:50 уч.к 1251
END:VEVENT
BEGIN:VEVENT
UID:4hih@192.168.245.71:3006
SEQUENCE:0
DTSTAMP:20260422T071007Z
DTSTART:20260219T070000Z
DTEND:20260219T084000Z
SUMMARY:Иностранный язык. Профессионально-ориентированный курс
LOCATION:16 к. 402
END:VEVENT
BEGIN:VEVENT
UID:f3sq@192.168.245.71:3006
SEQUENCE:0
DTSTAMP:20260422T071007Z
DTSTART:20260219T090000Z
DTEND:20260219T104000Z
SUMMARY:Иностранный язык. Профессионально-ориентированный курс
LOCATION:16 к. 402
END:VEVENT
BEGIN:VEVENT
UID:4sfb@192.168.245.71:3006
SEQUENCE:0
DTSTAMP:20260422T071007Z
DTSTART:20260219T110000Z
DTEND:20260219T124000Z
SUMMARY:Элективная  физическая культура и спорт
LOCATION:СК Спортивный зал
END:VEVENT
BEGIN:VEVENT
UID:6k3i@192.168.245.71:3006
SEQUENCE:0
DTSTAMP:20260422T071007Z
DTSTART:20260220T070000Z
DTEND:20260220T084000Z
SUMMARY:Статистика
LOCATION:50 уч.к 1111
END:VEVENT
BEGIN:VEVENT
UID:mwkw@192.168.245.71:3006
SEQUENCE:0
DTSTAMP:20260422T071007Z
DTSTART:20260220T090000Z
DTEND:20260220T104000Z
SUMMARY:Статистика
LOCATION:50 уч.к 1336
END:VEVENT
BEGIN:VEVENT
UID:62zc@192.168.245.71:3006
SEQUENCE:0
DTSTAMP:20260422T071007Z
DTSTART:20260220T110000Z
DTEND:20260220T124000Z
SUMMARY:Основы внешнеэкономической деятельности
LOCATION:50 уч.к 1230
END:VEVENT
BEGIN:VEVENT
UID:ldq3@192.168.245.71:3006
SEQUENCE:0
DTSTAMP:20260422T071007Z
DTSTART:20260220T150000Z
DTEND:20260220T164000Z
SUMMARY:Теория вероятностей
LOCATION:50 уч.к 1327
END:VEVENT
BEGIN:VEVENT
UID:phgy@192.168.245.71:3006
SEQUENCE:0
DTSTAMP:20260422T071007Z
DTSTART:20260221T070000Z
DTEND:20260221T084000Z
SUMMARY:Второй иностранный язык (китайский): базовая подготовка
LOCATION:50 уч.к 1230
END:VEVENT
BEGIN:VEVENT
UID:x3k7@192.168.245.71:3006
SEQUENCE:0
DTSTAMP:20260422T071007Z
DTSTART:20260221T090000Z
DTEND:20260221T100000Z
SUMMARY:Второй иностранный язык (китайский): базовая подготовка
LOCATION:50 уч.к 1230
END:VEVENT
END:VCALENDAR