BEGIN:VCALENDAR
VERSION:2.0
PRODID:-//spbstu.ru//ical//RU
NAME:Расписание группы 3753802/40001
X-WR-CALNAME:Расписание группы 3753802/40001
TIMEZONE-ID:Europe/Moscow
X-WR-TIMEZONE:Europe/Moscow
BEGIN:VEVENT
UID:2la9@192.168.245.71:3006
SEQUENCE:0
DTSTAMP:20260422T052304Z
DTSTART:20260302T070000Z
DTEND:20260302T084000Z
SUMMARY:Безопасность жизнедеятельности
LOCATION:50 уч.к 1424
END:VEVENT
BEGIN:VEVENT
UID:dyse@192.168.245.71:3006
SEQUENCE:0
DTSTAMP:20260422T052304Z
DTSTART:20260302T090000Z
DTEND:20260302T104000Z
SUMMARY:Элективная  физическая культура и спорт
LOCATION:СК Спортивный зал
END:VEVENT
BEGIN:VEVENT
UID:u5nf@192.168.245.71:3006
SEQUENCE:0
DTSTAMP:20260422T052304Z
DTSTART:20260303T090000Z
DTEND:20260303T104000Z
SUMMARY:Мировая экономика
LOCATION:50 уч.к 1251
END:VEVENT
BEGIN:VEVENT
UID:9bgl@192.168.245.71:3006
SEQUENCE:0
DTSTAMP:20260422T052304Z
DTSTART:20260303T110000Z
DTEND:20260303T124000Z
SUMMARY:Основы таможенного дела
LOCATION:50 уч.к 1225
END:VEVENT
BEGIN:VEVENT
UID:x7o3@192.168.245.71:3006
SEQUENCE:0
DTSTAMP:20260422T052304Z
DTSTART:20260303T130000Z
DTEND:20260303T144000Z
SUMMARY:Мировая экономика
LOCATION:50 уч.к 1250
END:VEVENT
BEGIN:VEVENT
UID:bimv@192.168.245.71:3006
SEQUENCE:0
DTSTAMP:20260422T052304Z
DTSTART:20260304T070000Z
DTEND:20260304T084000Z
SUMMARY:Международное торговое право
LOCATION:50 уч.к 1426
END:VEVENT
BEGIN:VEVENT
UID:culu@192.168.245.71:3006
SEQUENCE:0
DTSTAMP:20260422T052304Z
DTSTART:20260304T090000Z
DTEND:20260304T104000Z
SUMMARY:Международное торговое право
LOCATION:50 уч.к 1426
END:VEVENT
BEGIN:VEVENT
UID:m5tc@192.168.245.71:3006
SEQUENCE:0
DTSTAMP:20260422T052304Z
DTSTART:20260304T110000Z
DTEND:20260304T124000Z
SUMMARY:Информационная безопасность
LOCATION:50 уч.к 1210
END:VEVENT
BEGIN:VEVENT
UID:ouip@192.168.245.71:3006
SEQUENCE:0
DTSTAMP:20260422T052304Z
DTSTART:20260304T130000Z
DTEND:20260304T144000Z
SUMMARY:Информационная безопасность
LOCATION:50 уч.к 1426
END:VEVENT
BEGIN:VEVENT
UID:7lec@192.168.245.71:3006
SEQUENCE:0
DTSTAMP:20260422T052304Z
DTSTART:20260305T070000Z
DTEND:20260305T084000Z
SUMMARY:Иностранный язык. Профессионально-ориентированный курс
LOCATION:16 к. 402
END:VEVENT
BEGIN:VEVENT
UID:xk51@192.168.245.71:3006
SEQUENCE:0
DTSTAMP:20260422T052304Z
DTSTART:20260305T090000Z
DTEND:20260305T104000Z
SUMMARY:Иностранный язык. Профессионально-ориентированный курс
LOCATION:16 к. 402
END:VEVENT
BEGIN:VEVENT
UID:8ss9@192.168.245.71:3006
SEQUENCE:0
DTSTAMP:20260422T052304Z
DTSTART:20260305T110000Z
DTEND:20260305T124000Z
SUMMARY:Элективная  физическая культура и спорт
LOCATION:СК Спортивный зал
END:VEVENT
BEGIN:VEVENT
UID:qm0t@192.168.245.71:3006
SEQUENCE:0
DTSTAMP:20260422T052304Z
DTSTART:20260306T070000Z
DTEND:20260306T084000Z
SUMMARY:Статистика
LOCATION:50 уч.к 1111
END:VEVENT
BEGIN:VEVENT
UID:otuh@192.168.245.71:3006
SEQUENCE:0
DTSTAMP:20260422T052304Z
DTSTART:20260306T090000Z
DTEND:20260306T104000Z
SUMMARY:Статистика
LOCATION:50 уч.к 1336
END:VEVENT
BEGIN:VEVENT
UID:rjza@192.168.245.71:3006
SEQUENCE:0
DTSTAMP:20260422T052304Z
DTSTART:20260306T110000Z
DTEND:20260306T124000Z
SUMMARY:Основы внешнеэкономической деятельности
LOCATION:50 уч.к 1230
END:VEVENT
BEGIN:VEVENT
UID:jyhp@192.168.245.71:3006
SEQUENCE:0
DTSTAMP:20260422T052304Z
DTSTART:20260307T070000Z
DTEND:20260307T084000Z
SUMMARY:Второй иностранный язык (китайский): базовая подготовка
LOCATION:50 уч.к 1230
END:VEVENT
BEGIN:VEVENT
UID:fwcf@192.168.245.71:3006
SEQUENCE:0
DTSTAMP:20260422T052304Z
DTSTART:20260307T090000Z
DTEND:20260307T100000Z
SUMMARY:Второй иностранный язык (китайский): базовая подготовка
LOCATION:50 уч.к 1230
END:VEVENT
END:VCALENDAR