BEGIN:VCALENDAR
VERSION:2.0
PRODID:-//spbstu.ru//ical//RU
NAME:Расписание группы 3753802/40002
X-WR-CALNAME:Расписание группы 3753802/40002
TIMEZONE-ID:Europe/Moscow
X-WR-TIMEZONE:Europe/Moscow
BEGIN:VEVENT
UID:hi0l@192.168.245.71:3006
SEQUENCE:0
DTSTAMP:20260423T041400Z
DTSTART:20251117T090000Z
DTEND:20251117T104000Z
SUMMARY:Элективная физическая культура и спорт
LOCATION:СК Спортивный зал
END:VEVENT
BEGIN:VEVENT
UID:v89g@192.168.245.71:3006
SEQUENCE:0
DTSTAMP:20260423T041400Z
DTSTART:20251117T110000Z
DTEND:20251117T124000Z
SUMMARY:Иностранный язык: деловая коммуникация
LOCATION:16 к. 404
END:VEVENT
BEGIN:VEVENT
UID:jtap@192.168.245.71:3006
SEQUENCE:0
DTSTAMP:20260423T041400Z
DTSTART:20251117T130000Z
DTEND:20251117T144000Z
SUMMARY:Теория вероятностей
LOCATION:15 к. 328
END:VEVENT
BEGIN:VEVENT
UID:50on@192.168.245.71:3006
SEQUENCE:0
DTSTAMP:20260423T041400Z
DTSTART:20251118T070000Z
DTEND:20251118T084000Z
SUMMARY:Менеджмент
LOCATION:50 уч.к 1105
END:VEVENT
BEGIN:VEVENT
UID:hkod@192.168.245.71:3006
SEQUENCE:0
DTSTAMP:20260423T041400Z
DTSTART:20251118T090000Z
DTEND:20251118T104000Z
SUMMARY:Регионоведение
LOCATION:50 уч.к 1230
END:VEVENT
BEGIN:VEVENT
UID:g7p5@192.168.245.71:3006
SEQUENCE:0
DTSTAMP:20260423T041400Z
DTSTART:20251118T110000Z
DTEND:20251118T124000Z
SUMMARY:Теория вероятностей
LOCATION:50 уч.к 1111
END:VEVENT
BEGIN:VEVENT
UID:wfml@192.168.245.71:3006
SEQUENCE:0
DTSTAMP:20260423T041400Z
DTSTART:20251118T130000Z
DTEND:20251118T144000Z
SUMMARY:История России
LOCATION:50 уч.к 1111
END:VEVENT
BEGIN:VEVENT
UID:01gn@192.168.245.71:3006
SEQUENCE:0
DTSTAMP:20260423T041400Z
DTSTART:20251119T070000Z
DTEND:20251119T084000Z
SUMMARY:Второй иностранный язык (китайский): базовая подготовка
LOCATION:50 уч.к 1428
END:VEVENT
BEGIN:VEVENT
UID:lsjg@192.168.245.71:3006
SEQUENCE:0
DTSTAMP:20260423T041400Z
DTSTART:20251119T090000Z
DTEND:20251119T104000Z
SUMMARY:Второй иностранный язык (китайский): базовая подготовка
LOCATION:50 уч.к 1230
END:VEVENT
BEGIN:VEVENT
UID:i092@192.168.245.71:3006
SEQUENCE:0
DTSTAMP:20260423T041400Z
DTSTART:20251119T110000Z
DTEND:20251119T124000Z
SUMMARY:Маркетинг
LOCATION:50 уч.к 1214
END:VEVENT
BEGIN:VEVENT
UID:0j0a@192.168.245.71:3006
SEQUENCE:0
DTSTAMP:20260423T041400Z
DTSTART:20251120T090000Z
DTEND:20251120T104000Z
SUMMARY:Цифровая аналитика
LOCATION:50 уч.к 1107
END:VEVENT
BEGIN:VEVENT
UID:37lg@192.168.245.71:3006
SEQUENCE:0
DTSTAMP:20260423T041400Z
DTSTART:20251120T110000Z
DTEND:20251120T124000Z
SUMMARY:Элективная физическая культура и спорт
LOCATION:СК Спортивный зал
END:VEVENT
BEGIN:VEVENT
UID:q9fw@192.168.245.71:3006
SEQUENCE:0
DTSTAMP:20260423T041400Z
DTSTART:20251122T110000Z
DTEND:20251122T124000Z
SUMMARY:Бухгалтерский учет
LOCATION:50 уч.к 1418
END:VEVENT
END:VCALENDAR