BEGIN:VCALENDAR
VERSION:2.0
PRODID:-//spbstu.ru//ical//RU
NAME:Расписание группы 3753802/40002
X-WR-CALNAME:Расписание группы 3753802/40002
TIMEZONE-ID:Europe/Moscow
X-WR-TIMEZONE:Europe/Moscow
BEGIN:VEVENT
UID:y96q@192.168.245.71:3006
SEQUENCE:0
DTSTAMP:20260422T063620Z
DTSTART:20260112T070000Z
DTEND:20260112T084000Z
SUMMARY:Менеджмент
LOCATION:DL Дистанционно
END:VEVENT
BEGIN:VEVENT
UID:bnzd@192.168.245.71:3006
SEQUENCE:0
DTSTAMP:20260422T063620Z
DTSTART:20260113T090000Z
DTEND:20260113T104000Z
SUMMARY:Менеджмент
LOCATION:50 уч.к 1211
END:VEVENT
BEGIN:VEVENT
UID:nb4b@192.168.245.71:3006
SEQUENCE:0
DTSTAMP:20260422T063620Z
DTSTART:20260115T070000Z
DTEND:20260115T084000Z
SUMMARY:Маркетинг
LOCATION:DL Дистанционно
END:VEVENT
BEGIN:VEVENT
UID:56pn@192.168.245.71:3006
SEQUENCE:0
DTSTAMP:20260422T063620Z
DTSTART:20260116T100000Z
DTEND:20260116T124000Z
SUMMARY:Маркетинг
LOCATION:50 уч.к 1250
END:VEVENT
END:VCALENDAR