BEGIN:VCALENDAR
VERSION:2.0
PRODID:-//spbstu.ru//ical//RU
NAME:Расписание группы 3753802/40002
X-WR-CALNAME:Расписание группы 3753802/40002
TIMEZONE-ID:Europe/Moscow
X-WR-TIMEZONE:Europe/Moscow
BEGIN:VEVENT
UID:eq6x@192.168.245.71:3006
SEQUENCE:0
DTSTAMP:20260421T053557Z
DTSTART:20260413T090000Z
DTEND:20260413T104000Z
SUMMARY:Элективная  физическая культура и спорт
LOCATION:СК Спортивный зал
END:VEVENT
BEGIN:VEVENT
UID:ake7@192.168.245.71:3006
SEQUENCE:0
DTSTAMP:20260421T053557Z
DTSTART:20260414T090000Z
DTEND:20260414T104000Z
SUMMARY:Мировая экономика
LOCATION:50 уч.к 1251
END:VEVENT
BEGIN:VEVENT
UID:agz0@192.168.245.71:3006
SEQUENCE:0
DTSTAMP:20260421T053557Z
DTSTART:20260414T110000Z
DTEND:20260414T124000Z
SUMMARY:Мировая экономика
LOCATION:50 уч.к 1250
END:VEVENT
BEGIN:VEVENT
UID:0snz@192.168.245.71:3006
SEQUENCE:0
DTSTAMP:20260421T053557Z
DTSTART:20260414T130000Z
DTEND:20260414T144000Z
SUMMARY:Основы таможенного дела
LOCATION:50 уч.к 1225
END:VEVENT
BEGIN:VEVENT
UID:3hjt@192.168.245.71:3006
SEQUENCE:0
DTSTAMP:20260421T053557Z
DTSTART:20260415T070000Z
DTEND:20260415T084000Z
SUMMARY:Международное торговое право
LOCATION:50 уч.к 1426
END:VEVENT
BEGIN:VEVENT
UID:za28@192.168.245.71:3006
SEQUENCE:0
DTSTAMP:20260421T053557Z
DTSTART:20260415T090000Z
DTEND:20260415T104000Z
SUMMARY:Информационная безопасность
LOCATION:50 уч.к 1210
END:VEVENT
BEGIN:VEVENT
UID:7kar@192.168.245.71:3006
SEQUENCE:0
DTSTAMP:20260421T053557Z
DTSTART:20260415T110000Z
DTEND:20260415T124000Z
SUMMARY:Международное торговое право
LOCATION:50 уч.к 1426
END:VEVENT
BEGIN:VEVENT
UID:ecxg@192.168.245.71:3006
SEQUENCE:0
DTSTAMP:20260421T053557Z
DTSTART:20260415T130000Z
DTEND:20260415T144000Z
SUMMARY:Информационная безопасность
LOCATION:50 уч.к 1426
END:VEVENT
BEGIN:VEVENT
UID:ii9n@192.168.245.71:3006
SEQUENCE:0
DTSTAMP:20260421T053557Z
DTSTART:20260416T070000Z
DTEND:20260416T084000Z
SUMMARY:Иностранный язык. Профессионально-ориентированный курс
LOCATION:16 к. 411
END:VEVENT
BEGIN:VEVENT
UID:yrgj@192.168.245.71:3006
SEQUENCE:0
DTSTAMP:20260421T053557Z
DTSTART:20260416T090000Z
DTEND:20260416T104000Z
SUMMARY:Иностранный язык. Профессионально-ориентированный курс
LOCATION:16 к. 411
END:VEVENT
BEGIN:VEVENT
UID:ybc8@192.168.245.71:3006
SEQUENCE:0
DTSTAMP:20260421T053557Z
DTSTART:20260416T110000Z
DTEND:20260416T124000Z
SUMMARY:Элективная  физическая культура и спорт
LOCATION:СК Спортивный зал
END:VEVENT
BEGIN:VEVENT
UID:u5lw@192.168.245.71:3006
SEQUENCE:0
DTSTAMP:20260421T053557Z
DTSTART:20260417T070000Z
DTEND:20260417T084000Z
SUMMARY:Статистика
LOCATION:50 уч.к 1111
END:VEVENT
BEGIN:VEVENT
UID:kvnd@192.168.245.71:3006
SEQUENCE:0
DTSTAMP:20260421T053557Z
DTSTART:20260417T090000Z
DTEND:20260417T104000Z
SUMMARY:Статистика
LOCATION:50 уч.к 1336
END:VEVENT
BEGIN:VEVENT
UID:1rzi@192.168.245.71:3006
SEQUENCE:0
DTSTAMP:20260421T053557Z
DTSTART:20260417T110000Z
DTEND:20260417T124000Z
SUMMARY:Основы внешнеэкономической деятельности
LOCATION:50 уч.к 1230
END:VEVENT
END:VCALENDAR