BEGIN:VCALENDAR
VERSION:2.0
PRODID:-//spbstu.ru//ical//RU
NAME:Расписание группы 3753802/40002
X-WR-CALNAME:Расписание группы 3753802/40002
TIMEZONE-ID:Europe/Moscow
X-WR-TIMEZONE:Europe/Moscow
BEGIN:VEVENT
UID:nk7z@192.168.245.71:3006
SEQUENCE:0
DTSTAMP:20260421T071524Z
DTSTART:20260406T070000Z
DTEND:20260406T084000Z
SUMMARY:Безопасность жизнедеятельности
LOCATION:50 уч.к 1424
END:VEVENT
BEGIN:VEVENT
UID:cc10@192.168.245.71:3006
SEQUENCE:0
DTSTAMP:20260421T071524Z
DTSTART:20260406T090000Z
DTEND:20260406T104000Z
SUMMARY:Элективная  физическая культура и спорт
LOCATION:СК Спортивный зал
END:VEVENT
BEGIN:VEVENT
UID:m4bn@192.168.245.71:3006
SEQUENCE:0
DTSTAMP:20260421T071524Z
DTSTART:20260407T110000Z
DTEND:20260407T124000Z
SUMMARY:Мировая экономика
LOCATION:50 уч.к 1250
END:VEVENT
BEGIN:VEVENT
UID:rvnh@192.168.245.71:3006
SEQUENCE:0
DTSTAMP:20260421T071524Z
DTSTART:20260407T130000Z
DTEND:20260407T144000Z
SUMMARY:Основы таможенного дела
LOCATION:50 уч.к 1225
END:VEVENT
BEGIN:VEVENT
UID:1f6f@192.168.245.71:3006
SEQUENCE:0
DTSTAMP:20260421T071524Z
DTSTART:20260408T070000Z
DTEND:20260408T084000Z
SUMMARY:Международное торговое право
LOCATION:50 уч.к 1426
END:VEVENT
BEGIN:VEVENT
UID:j732@192.168.245.71:3006
SEQUENCE:0
DTSTAMP:20260421T071524Z
DTSTART:20260408T090000Z
DTEND:20260408T104000Z
SUMMARY:Информационная безопасность
LOCATION:50 уч.к 1210
END:VEVENT
BEGIN:VEVENT
UID:sf0n@192.168.245.71:3006
SEQUENCE:0
DTSTAMP:20260421T071524Z
DTSTART:20260408T110000Z
DTEND:20260408T124000Z
SUMMARY:Международное торговое право
LOCATION:50 уч.к 1426
END:VEVENT
BEGIN:VEVENT
UID:zh2n@192.168.245.71:3006
SEQUENCE:0
DTSTAMP:20260421T071524Z
DTSTART:20260408T130000Z
DTEND:20260408T144000Z
SUMMARY:Основы таможенного дела
LOCATION:50 уч.к 1251
END:VEVENT
BEGIN:VEVENT
UID:3ug9@192.168.245.71:3006
SEQUENCE:0
DTSTAMP:20260421T071524Z
DTSTART:20260409T070000Z
DTEND:20260409T084000Z
SUMMARY:Иностранный язык. Профессионально-ориентированный курс
LOCATION:16 к. 411
END:VEVENT
BEGIN:VEVENT
UID:bjf9@192.168.245.71:3006
SEQUENCE:0
DTSTAMP:20260421T071524Z
DTSTART:20260409T090000Z
DTEND:20260409T104000Z
SUMMARY:Иностранный язык. Профессионально-ориентированный курс
LOCATION:16 к. 411
END:VEVENT
BEGIN:VEVENT
UID:a62s@192.168.245.71:3006
SEQUENCE:0
DTSTAMP:20260421T071524Z
DTSTART:20260409T110000Z
DTEND:20260409T124000Z
SUMMARY:Элективная  физическая культура и спорт
LOCATION:СК Спортивный зал
END:VEVENT
BEGIN:VEVENT
UID:ebfy@192.168.245.71:3006
SEQUENCE:0
DTSTAMP:20260421T071524Z
DTSTART:20260410T090000Z
DTEND:20260410T104000Z
SUMMARY:Статистика
LOCATION:50 уч.к 1336
END:VEVENT
BEGIN:VEVENT
UID:cddl@192.168.245.71:3006
SEQUENCE:0
DTSTAMP:20260421T071524Z
DTSTART:20260410T110000Z
DTEND:20260410T124000Z
SUMMARY:Основы внешнеэкономической деятельности
LOCATION:50 уч.к 1230
END:VEVENT
BEGIN:VEVENT
UID:i3q1@192.168.245.71:3006
SEQUENCE:0
DTSTAMP:20260421T071524Z
DTSTART:20260410T130000Z
DTEND:20260410T144000Z
SUMMARY:Основы внешнеэкономической деятельности
LOCATION:50 уч.к 1230
END:VEVENT
BEGIN:VEVENT
UID:0j1l@192.168.245.71:3006
SEQUENCE:0
DTSTAMP:20260421T071524Z
DTSTART:20260411T070000Z
DTEND:20260411T084000Z
SUMMARY:Второй иностранный язык (китайский): базовая подготовка
LOCATION:50 уч.к 1230
END:VEVENT
BEGIN:VEVENT
UID:nba5@192.168.245.71:3006
SEQUENCE:0
DTSTAMP:20260421T071524Z
DTSTART:20260411T090000Z
DTEND:20260411T100000Z
SUMMARY:Второй иностранный язык (китайский): базовая подготовка
LOCATION:50 уч.к 1230
END:VEVENT
END:VCALENDAR