BEGIN:VCALENDAR
VERSION:2.0
PRODID:-//spbstu.ru//ical//RU
NAME:Расписание группы 3730105/30101
X-WR-CALNAME:Расписание группы 3730105/30101
TIMEZONE-ID:Europe/Moscow
X-WR-TIMEZONE:Europe/Moscow
BEGIN:VEVENT
UID:nqi0@192.168.245.71:3006
SEQUENCE:0
DTSTAMP:20260425T134603Z
DTSTART:20250923T070000Z
DTEND:20250923T084000Z
SUMMARY:Социально-экономическая статистика
LOCATION:50 уч.к 1204
END:VEVENT
BEGIN:VEVENT
UID:4u81@192.168.245.71:3006
SEQUENCE:0
DTSTAMP:20260425T134603Z
DTSTART:20250923T090000Z
DTEND:20250923T104000Z
SUMMARY:Методы принятия решений
LOCATION:50 уч.к 1204
END:VEVENT
BEGIN:VEVENT
UID:me3p@192.168.245.71:3006
SEQUENCE:0
DTSTAMP:20260425T134603Z
DTSTART:20250923T110000Z
DTEND:20250923T124000Z
SUMMARY:Методы принятия решений
LOCATION:50 уч.к 1204
END:VEVENT
BEGIN:VEVENT
UID:ge5i@192.168.245.71:3006
SEQUENCE:0
DTSTAMP:20260425T134603Z
DTSTART:20250923T130000Z
DTEND:20250923T144000Z
SUMMARY:Социально-экономическая статистика
LOCATION:50 уч.к 1218
END:VEVENT
BEGIN:VEVENT
UID:u1y1@192.168.245.71:3006
SEQUENCE:0
DTSTAMP:20260425T134603Z
DTSTART:20250924T110000Z
DTEND:20250924T124000Z
SUMMARY:Иностранный язык. Профессионально-ориентированный курс
LOCATION:16 к. 418
END:VEVENT
BEGIN:VEVENT
UID:uwxy@192.168.245.71:3006
SEQUENCE:0
DTSTAMP:20260425T134603Z
DTSTART:20250925T070000Z
DTEND:20250925T084000Z
SUMMARY:Карьерная адаптивность
LOCATION:50 уч.к 1245
END:VEVENT
BEGIN:VEVENT
UID:5rtq@192.168.245.71:3006
SEQUENCE:0
DTSTAMP:20260425T134603Z
DTSTART:20250925T090000Z
DTEND:20250925T104000Z
SUMMARY:Эконометрика
LOCATION:50 уч.к 1422
END:VEVENT
BEGIN:VEVENT
UID:edi4@192.168.245.71:3006
SEQUENCE:0
DTSTAMP:20260425T134603Z
DTSTART:20250925T110000Z
DTEND:20250925T124000Z
SUMMARY:Анализ финансово-хозяйственной деятельности предприятий
LOCATION:50 уч.к 1324
END:VEVENT
BEGIN:VEVENT
UID:l3lz@192.168.245.71:3006
SEQUENCE:0
DTSTAMP:20260425T134603Z
DTSTART:20250925T130000Z
DTEND:20250925T144000Z
SUMMARY:Анализ финансово-хозяйственной деятельности предприятий
LOCATION:50 уч.к 1324
END:VEVENT
BEGIN:VEVENT
UID:0iky@192.168.245.71:3006
SEQUENCE:0
DTSTAMP:20260425T134603Z
DTSTART:20250925T150000Z
DTEND:20250925T164000Z
SUMMARY:Эконометрика
LOCATION:50 уч.к 1101
END:VEVENT
BEGIN:VEVENT
UID:z8tr@192.168.245.71:3006
SEQUENCE:0
DTSTAMP:20260425T134603Z
DTSTART:20250926T110000Z
DTEND:20250926T124000Z
SUMMARY:Эконометрика
LOCATION:50 уч.к 1101
END:VEVENT
BEGIN:VEVENT
UID:md2m@192.168.245.71:3006
SEQUENCE:0
DTSTAMP:20260425T134603Z
DTSTART:20250926T130000Z
DTEND:20250926T144000Z
SUMMARY:Наука о данных
LOCATION:50 уч.к 1231
END:VEVENT
BEGIN:VEVENT
UID:6wuh@192.168.245.71:3006
SEQUENCE:0
DTSTAMP:20260425T134603Z
DTSTART:20250926T150000Z
DTEND:20250926T164000Z
SUMMARY:Наука о данных
LOCATION:50 уч.к 1103
END:VEVENT
END:VCALENDAR