BEGIN:VCALENDAR
VERSION:2.0
PRODID:-//spbstu.ru//ical//RU
NAME:Расписание группы 3730105/30101
X-WR-CALNAME:Расписание группы 3730105/30101
TIMEZONE-ID:Europe/Moscow
X-WR-TIMEZONE:Europe/Moscow
BEGIN:VEVENT
UID:nsp5@192.168.245.71:3006
SEQUENCE:0
DTSTAMP:20260422T060019Z
DTSTART:20260224T070000Z
DTEND:20260224T084000Z
SUMMARY:Эконометрика
LOCATION:50 уч.к 1205
END:VEVENT
BEGIN:VEVENT
UID:380y@192.168.245.71:3006
SEQUENCE:0
DTSTAMP:20260422T060019Z
DTSTART:20260224T090000Z
DTEND:20260224T104000Z
SUMMARY:Наука о данных
LOCATION:50 уч.к 1319
END:VEVENT
BEGIN:VEVENT
UID:1kum@192.168.245.71:3006
SEQUENCE:0
DTSTAMP:20260422T060019Z
DTSTART:20260225T130000Z
DTEND:20260225T144000Z
SUMMARY:Наука о данных
LOCATION:50 уч.к 1103
END:VEVENT
BEGIN:VEVENT
UID:d4on@192.168.245.71:3006
SEQUENCE:0
DTSTAMP:20260422T060019Z
DTSTART:20260225T150000Z
DTEND:20260225T164000Z
SUMMARY:Анализ финансово-хозяйственной деятельности предприятий
LOCATION:50 уч.к 1323
END:VEVENT
BEGIN:VEVENT
UID:gk3r@192.168.245.71:3006
SEQUENCE:0
DTSTAMP:20260422T060019Z
DTSTART:20260226T070000Z
DTEND:20260226T084000Z
SUMMARY:Моделирование бизнес-процессов
LOCATION:50 уч.к 1423
END:VEVENT
BEGIN:VEVENT
UID:ot1u@192.168.245.71:3006
SEQUENCE:0
DTSTAMP:20260422T060019Z
DTSTART:20260226T090000Z
DTEND:20260226T104000Z
SUMMARY:Моделирование бизнес-процессов
LOCATION:50 уч.к 1416
END:VEVENT
BEGIN:VEVENT
UID:j8u2@192.168.245.71:3006
SEQUENCE:0
DTSTAMP:20260422T060019Z
DTSTART:20260227T070000Z
DTEND:20260227T084000Z
SUMMARY:Эконометрика
LOCATION:50 уч.к 1210
END:VEVENT
BEGIN:VEVENT
UID:sae5@192.168.245.71:3006
SEQUENCE:0
DTSTAMP:20260422T060019Z
DTSTART:20260227T090000Z
DTEND:20260227T104000Z
SUMMARY:Финансовый менеджмент
LOCATION:50 уч.к 1210
END:VEVENT
BEGIN:VEVENT
UID:0po8@192.168.245.71:3006
SEQUENCE:0
DTSTAMP:20260422T060019Z
DTSTART:20260227T110000Z
DTEND:20260227T124000Z
SUMMARY:Эконометрика
LOCATION:50 уч.к 1208
END:VEVENT
END:VCALENDAR