BEGIN:VCALENDAR
VERSION:2.0
PRODID:-//spbstu.ru//ical//RU
NAME:Расписание группы 3733801/30401
X-WR-CALNAME:Расписание группы 3733801/30401
TIMEZONE-ID:Europe/Moscow
X-WR-TIMEZONE:Europe/Moscow
BEGIN:VEVENT
UID:gcn5@192.168.245.71:3006
SEQUENCE:0
DTSTAMP:20260422T063637Z
DTSTART:20260526T130000Z
DTEND:20260526T144000Z
SUMMARY:Анализ финансово-хозяйственной деятельности предприятий
LOCATION:50 уч.к 1101
END:VEVENT
BEGIN:VEVENT
UID:heqd@192.168.245.71:3006
SEQUENCE:0
DTSTAMP:20260422T063637Z
DTSTART:20260527T130000Z
DTEND:20260527T144000Z
SUMMARY:Финансовый менеджмент
LOCATION:50 уч.к 1205
END:VEVENT
BEGIN:VEVENT
UID:m1dy@192.168.245.71:3006
SEQUENCE:0
DTSTAMP:20260422T063637Z
DTSTART:20260528T130000Z
DTEND:20260528T144000Z
SUMMARY:Хранение и обработка экономической информации
LOCATION:50 уч.к 1101
END:VEVENT
END:VCALENDAR