BEGIN:VCALENDAR
VERSION:2.0
PRODID:-//spbstu.ru//ical//RU
NAME:Расписание группы 3733801/30982
X-WR-CALNAME:Расписание группы 3733801/30982
TIMEZONE-ID:Europe/Moscow
X-WR-TIMEZONE:Europe/Moscow
BEGIN:VEVENT
UID:5vo9@192.168.245.71:3006
SEQUENCE:0
DTSTAMP:20260426T021350Z
DTSTART:20250915T070000Z
DTEND:20250915T083000Z
SUMMARY:Карьерная адаптивность: Русский язык как иностранный
LOCATION:15 к. 716
END:VEVENT
BEGIN:VEVENT
UID:alv7@192.168.245.71:3006
SEQUENCE:0
DTSTAMP:20260426T021350Z
DTSTART:20250915T070000Z
DTEND:20250915T083000Z
SUMMARY:Карьерная адаптивность: Русский язык как иностранный
LOCATION:15 к. 728
END:VEVENT
BEGIN:VEVENT
UID:4tud@192.168.245.71:3006
SEQUENCE:0
DTSTAMP:20260426T021350Z
DTSTART:20250915T090000Z
DTEND:20250915T103000Z
SUMMARY:Карьерная адаптивность: Русский язык как иностранный
LOCATION:15 к. 728
END:VEVENT
BEGIN:VEVENT
UID:xz73@192.168.245.71:3006
SEQUENCE:0
DTSTAMP:20260426T021350Z
DTSTART:20250915T090000Z
DTEND:20250915T103000Z
SUMMARY:Карьерная адаптивность: Русский язык как иностранный
LOCATION:15 к. 716
END:VEVENT
BEGIN:VEVENT
UID:eoqf@192.168.245.71:3006
SEQUENCE:0
DTSTAMP:20260426T021350Z
DTSTART:20250915T110000Z
DTEND:20250915T124000Z
SUMMARY:Мировая экономика
LOCATION:50 уч.к 1426
END:VEVENT
BEGIN:VEVENT
UID:wbe3@192.168.245.71:3006
SEQUENCE:0
DTSTAMP:20260426T021350Z
DTSTART:20250915T130000Z
DTEND:20250915T144000Z
SUMMARY:Мировая экономика
LOCATION:50 уч.к 1426
END:VEVENT
BEGIN:VEVENT
UID:bjzv@192.168.245.71:3006
SEQUENCE:0
DTSTAMP:20260426T021350Z
DTSTART:20250916T070000Z
DTEND:20250916T084000Z
SUMMARY:Налоги и налогообложение
LOCATION:50 уч.к 1245
END:VEVENT
BEGIN:VEVENT
UID:l75r@192.168.245.71:3006
SEQUENCE:0
DTSTAMP:20260426T021350Z
DTSTART:20250916T090000Z
DTEND:20250916T104000Z
SUMMARY:Анализ финансово-хозяйственной деятельности предприятий
LOCATION:50 уч.к 1426
END:VEVENT
BEGIN:VEVENT
UID:6ibd@192.168.245.71:3006
SEQUENCE:0
DTSTAMP:20260426T021350Z
DTSTART:20250916T110000Z
DTEND:20250916T124000Z
SUMMARY:Анализ финансово-хозяйственной деятельности предприятий
LOCATION:50 уч.к 1426
END:VEVENT
BEGIN:VEVENT
UID:o3ab@192.168.245.71:3006
SEQUENCE:0
DTSTAMP:20260426T021350Z
DTSTART:20250917T130000Z
DTEND:20250917T143000Z
SUMMARY:Карьерная адаптивность: Русский язык как иностранный
LOCATION:15 к. 420
END:VEVENT
BEGIN:VEVENT
UID:5dgy@192.168.245.71:3006
SEQUENCE:0
DTSTAMP:20260426T021350Z
DTSTART:20250917T150000Z
DTEND:20250917T163000Z
SUMMARY:Карьерная адаптивность: Русский язык как иностранный
LOCATION:15 к. 420
END:VEVENT
BEGIN:VEVENT
UID:x4rh@192.168.245.71:3006
SEQUENCE:0
DTSTAMP:20260426T021350Z
DTSTART:20250918T070000Z
DTEND:20250918T083000Z
SUMMARY:Карьерная адаптивность: Русский язык как иностранный
LOCATION:15 к. 604
END:VEVENT
BEGIN:VEVENT
UID:avr8@192.168.245.71:3006
SEQUENCE:0
DTSTAMP:20260426T021350Z
DTSTART:20250918T090000Z
DTEND:20250918T103000Z
SUMMARY:Карьерная адаптивность: Русский язык как иностранный
LOCATION:15 к. 604
END:VEVENT
BEGIN:VEVENT
UID:r992@192.168.245.71:3006
SEQUENCE:0
DTSTAMP:20260426T021350Z
DTSTART:20250919T050000Z
DTEND:20250919T064000Z
SUMMARY:Информационные системы в экономике
LOCATION:50 уч.к 1110
END:VEVENT
BEGIN:VEVENT
UID:1mc7@192.168.245.71:3006
SEQUENCE:0
DTSTAMP:20260426T021350Z
DTSTART:20250919T070000Z
DTEND:20250919T084000Z
SUMMARY:Налоги и налогообложение
LOCATION:50 уч.к 1251
END:VEVENT
BEGIN:VEVENT
UID:qoyb@192.168.245.71:3006
SEQUENCE:0
DTSTAMP:20260426T021350Z
DTSTART:20250920T110000Z
DTEND:20250920T124000Z
SUMMARY:Эконометрика
LOCATION:50 уч.к 1323
END:VEVENT
END:VCALENDAR