BEGIN:VCALENDAR
VERSION:2.0
PRODID:-//spbstu.ru//ical//RU
NAME:Расписание группы 3733801/30982
X-WR-CALNAME:Расписание группы 3733801/30982
TIMEZONE-ID:Europe/Moscow
X-WR-TIMEZONE:Europe/Moscow
BEGIN:VEVENT
UID:cuv2@192.168.245.71:3006
SEQUENCE:0
DTSTAMP:20260421T153402Z
DTSTART:20260330T070000Z
DTEND:20260330T084000Z
SUMMARY:Финансовый менеджмент
LOCATION:50 уч.к 1319
END:VEVENT
BEGIN:VEVENT
UID:8iv7@192.168.245.71:3006
SEQUENCE:0
DTSTAMP:20260421T153402Z
DTSTART:20260330T090000Z
DTEND:20260330T104000Z
SUMMARY:Финансовый менеджмент
LOCATION:50 уч.к 1319
END:VEVENT
BEGIN:VEVENT
UID:lxnn@192.168.245.71:3006
SEQUENCE:0
DTSTAMP:20260421T153402Z
DTSTART:20260330T130000Z
DTEND:20260330T144000Z
SUMMARY:Хранение и обработка экономической информации
LOCATION:50 уч.к 1336
END:VEVENT
BEGIN:VEVENT
UID:s4ip@192.168.245.71:3006
SEQUENCE:0
DTSTAMP:20260421T153402Z
DTSTART:20260402T070000Z
DTEND:20260402T084000Z
SUMMARY:Анализ финансово-хозяйственной деятельности предприятий
LOCATION:50 уч.к 1251
END:VEVENT
BEGIN:VEVENT
UID:8a15@192.168.245.71:3006
SEQUENCE:0
DTSTAMP:20260421T153402Z
DTSTART:20260402T090000Z
DTEND:20260402T104000Z
SUMMARY:Бизнес-планирование
LOCATION:50 уч.к 1251
END:VEVENT
BEGIN:VEVENT
UID:3cxb@192.168.245.71:3006
SEQUENCE:0
DTSTAMP:20260421T153402Z
DTSTART:20260402T110000Z
DTEND:20260402T124000Z
SUMMARY:Бизнес-планирование
LOCATION:50 уч.к 1251
END:VEVENT
BEGIN:VEVENT
UID:sjxw@192.168.245.71:3006
SEQUENCE:0
DTSTAMP:20260421T153402Z
DTSTART:20260403T070000Z
DTEND:20260403T084000Z
SUMMARY:Международные экономические отношения
LOCATION:DL Дистанционно
END:VEVENT
BEGIN:VEVENT
UID:afnl@192.168.245.71:3006
SEQUENCE:0
DTSTAMP:20260421T153402Z
DTSTART:20260403T090000Z
DTEND:20260403T104000Z
SUMMARY:Международные экономические отношения
LOCATION:DL Дистанционно
END:VEVENT
END:VCALENDAR