BEGIN:VCALENDAR
VERSION:2.0
PRODID:-//spbstu.ru//ical//RU
NAME:Расписание группы 3733801/31401
X-WR-CALNAME:Расписание группы 3733801/31401
TIMEZONE-ID:Europe/Moscow
X-WR-TIMEZONE:Europe/Moscow
BEGIN:VEVENT
UID:d8bp@192.168.245.71:3006
SEQUENCE:0
DTSTAMP:20260424T125031Z
DTSTART:20251201T110000Z
DTEND:20251201T124000Z
SUMMARY:Эконометрика
LOCATION:50 уч.к 1245
END:VEVENT
BEGIN:VEVENT
UID:teeo@192.168.245.71:3006
SEQUENCE:0
DTSTAMP:20260424T125031Z
DTSTART:20251201T130000Z
DTEND:20251201T144000Z
SUMMARY:Анализ финансово-хозяйственной деятельности предприятий
LOCATION:50 уч.к 1245
END:VEVENT
BEGIN:VEVENT
UID:17x5@192.168.245.71:3006
SEQUENCE:0
DTSTAMP:20260424T125031Z
DTSTART:20251202T070000Z
DTEND:20251202T084000Z
SUMMARY:Управленческий учет
LOCATION:50 уч.к 1243
END:VEVENT
BEGIN:VEVENT
UID:7st2@192.168.245.71:3006
SEQUENCE:0
DTSTAMP:20260424T125031Z
DTSTART:20251202T090000Z
DTEND:20251202T104000Z
SUMMARY:Производственный менеджмент
LOCATION:50 уч.к 1243
END:VEVENT
BEGIN:VEVENT
UID:120f@192.168.245.71:3006
SEQUENCE:0
DTSTAMP:20260424T125031Z
DTSTART:20251202T110000Z
DTEND:20251202T124000Z
SUMMARY:Иностранный язык. Профессионально-ориентированный курс
LOCATION:16 к. 404
END:VEVENT
BEGIN:VEVENT
UID:yjz7@192.168.245.71:3006
SEQUENCE:0
DTSTAMP:20260424T125031Z
DTSTART:20251202T130000Z
DTEND:20251202T144000Z
SUMMARY:Иностранный язык. Профессионально-ориентированный курс
LOCATION:16 к. 415
END:VEVENT
BEGIN:VEVENT
UID:f7pj@192.168.245.71:3006
SEQUENCE:0
DTSTAMP:20260424T125031Z
DTSTART:20251203T070000Z
DTEND:20251203T084000Z
SUMMARY:Управленческий учет
LOCATION:50 уч.к 1326
END:VEVENT
BEGIN:VEVENT
UID:kmoj@192.168.245.71:3006
SEQUENCE:0
DTSTAMP:20260424T125031Z
DTSTART:20251203T090000Z
DTEND:20251203T104000Z
SUMMARY:Производственный менеджмент
LOCATION:50 уч.к 1422
END:VEVENT
BEGIN:VEVENT
UID:ciig@192.168.245.71:3006
SEQUENCE:0
DTSTAMP:20260424T125031Z
DTSTART:20251204T070000Z
DTEND:20251204T084000Z
SUMMARY:Карьерная адаптивность
LOCATION:50 уч.к 1245
END:VEVENT
BEGIN:VEVENT
UID:1nkr@192.168.245.71:3006
SEQUENCE:0
DTSTAMP:20260424T125031Z
DTSTART:20251205T050000Z
DTEND:20251205T064000Z
SUMMARY:Эконометрика
LOCATION:50 уч.к 1107
END:VEVENT
BEGIN:VEVENT
UID:wx1d@192.168.245.71:3006
SEQUENCE:0
DTSTAMP:20260424T125031Z
DTSTART:20251205T070000Z
DTEND:20251205T084000Z
SUMMARY:Анализ финансово-хозяйственной деятельности предприятий
LOCATION:50 уч.к 1327
END:VEVENT
BEGIN:VEVENT
UID:94cf@192.168.245.71:3006
SEQUENCE:0
DTSTAMP:20260424T125031Z
DTSTART:20251205T090000Z
DTEND:20251205T104000Z
SUMMARY:Налоги и налогообложение
LOCATION:50 уч.к 1115
END:VEVENT
BEGIN:VEVENT
UID:kfbh@192.168.245.71:3006
SEQUENCE:0
DTSTAMP:20260424T125031Z
DTSTART:20251205T110000Z
DTEND:20251205T124000Z
SUMMARY:Информационные системы в экономике
LOCATION:50 уч.к 1107
END:VEVENT
END:VCALENDAR