BEGIN:VCALENDAR
VERSION:2.0
PRODID:-//spbstu.ru//ical//RU
NAME:Расписание группы 3733801/31401
X-WR-CALNAME:Расписание группы 3733801/31401
TIMEZONE-ID:Europe/Moscow
X-WR-TIMEZONE:Europe/Moscow
BEGIN:VEVENT
UID:zkhz@192.168.245.71:3006
SEQUENCE:0
DTSTAMP:20260421T150823Z
DTSTART:20260504T050000Z
DTEND:20260504T064000Z
SUMMARY:Хранение и обработка экономической информации
LOCATION:50 уч.к 1204
END:VEVENT
BEGIN:VEVENT
UID:jp5h@192.168.245.71:3006
SEQUENCE:0
DTSTAMP:20260421T150823Z
DTSTART:20260504T070000Z
DTEND:20260504T084000Z
SUMMARY:Финансовый менеджмент
LOCATION:50 уч.к 1204
END:VEVENT
BEGIN:VEVENT
UID:wcwb@192.168.245.71:3006
SEQUENCE:0
DTSTAMP:20260421T150823Z
DTSTART:20260504T090000Z
DTEND:20260504T104000Z
SUMMARY:Финансовый менеджмент
LOCATION:50 уч.к 1432
END:VEVENT
BEGIN:VEVENT
UID:jtcs@192.168.245.71:3006
SEQUENCE:0
DTSTAMP:20260421T150823Z
DTSTART:20260504T110000Z
DTEND:20260504T124000Z
SUMMARY:Анализ финансово-хозяйственной деятельности предприятий
LOCATION:50 уч.к 1432
END:VEVENT
BEGIN:VEVENT
UID:zg2j@192.168.245.71:3006
SEQUENCE:0
DTSTAMP:20260421T150823Z
DTSTART:20260505T070000Z
DTEND:20260505T084000Z
SUMMARY:Карьерная адаптивность: Деловые коммуникации в экономике
LOCATION:50 уч.к 1231
END:VEVENT
BEGIN:VEVENT
UID:3kbw@192.168.245.71:3006
SEQUENCE:0
DTSTAMP:20260421T150823Z
DTSTART:20260505T090000Z
DTEND:20260505T104000Z
SUMMARY:Анализ финансово-хозяйственной деятельности предприятий
LOCATION:50 уч.к 1425
END:VEVENT
BEGIN:VEVENT
UID:k90r@192.168.245.71:3006
SEQUENCE:0
DTSTAMP:20260421T150823Z
DTSTART:20260505T110000Z
DTEND:20260505T124000Z
SUMMARY:Финансовый менеджмент
LOCATION:50 уч.к 1204
END:VEVENT
BEGIN:VEVENT
UID:va4u@192.168.245.71:3006
SEQUENCE:0
DTSTAMP:20260421T150823Z
DTSTART:20260507T090000Z
DTEND:20260507T104000Z
SUMMARY:Основы современной электроэнергетики
LOCATION:Мех. к. 9
END:VEVENT
BEGIN:VEVENT
UID:25p1@192.168.245.71:3006
SEQUENCE:0
DTSTAMP:20260421T150823Z
DTSTART:20260507T110000Z
DTEND:20260507T124000Z
SUMMARY:Основы современной электроэнергетики
LOCATION:Мех. к. 9
END:VEVENT
BEGIN:VEVENT
UID:gn91@192.168.245.71:3006
SEQUENCE:0
DTSTAMP:20260421T150823Z
DTSTART:20260508T090000Z
DTEND:20260508T104000Z
SUMMARY:Основы современной теплоэнергетики
LOCATION:50 уч.к 1116
END:VEVENT
BEGIN:VEVENT
UID:xqhe@192.168.245.71:3006
SEQUENCE:0
DTSTAMP:20260421T150823Z
DTSTART:20260508T110000Z
DTEND:20260508T124000Z
SUMMARY:Основы современной теплоэнергетики
LOCATION:50 уч.к 1242
END:VEVENT
END:VCALENDAR