BEGIN:VCALENDAR
VERSION:2.0
PRODID:-//spbstu.ru//ical//RU
NAME:Расписание группы 3733801/31801
X-WR-CALNAME:Расписание группы 3733801/31801
TIMEZONE-ID:Europe/Moscow
X-WR-TIMEZONE:Europe/Moscow
BEGIN:VEVENT
UID:b3c9@192.168.245.71:3006
SEQUENCE:0
DTSTAMP:20260423T173629Z
DTSTART:20251201T070000Z
DTEND:20251201T084000Z
SUMMARY:Информационные системы в экономике
LOCATION:50 уч.к 1208
END:VEVENT
BEGIN:VEVENT
UID:juf2@192.168.245.71:3006
SEQUENCE:0
DTSTAMP:20260423T173629Z
DTSTART:20251201T090000Z
DTEND:20251201T104000Z
SUMMARY:Налоги и налогообложение
LOCATION:50 уч.к 1208
END:VEVENT
BEGIN:VEVENT
UID:vjto@192.168.245.71:3006
SEQUENCE:0
DTSTAMP:20260423T173629Z
DTSTART:20251201T110000Z
DTEND:20251201T124000Z
SUMMARY:Эконометрика
LOCATION:50 уч.к 1245
END:VEVENT
BEGIN:VEVENT
UID:ohx3@192.168.245.71:3006
SEQUENCE:0
DTSTAMP:20260423T173629Z
DTSTART:20251201T130000Z
DTEND:20251201T144000Z
SUMMARY:Анализ финансово-хозяйственной деятельности предприятий
LOCATION:50 уч.к 1245
END:VEVENT
BEGIN:VEVENT
UID:o82h@192.168.245.71:3006
SEQUENCE:0
DTSTAMP:20260423T173629Z
DTSTART:20251202T110000Z
DTEND:20251202T124000Z
SUMMARY:Иностранный язык. Профессионально-ориентированный курс
LOCATION:16 к. 402
END:VEVENT
BEGIN:VEVENT
UID:ri4j@192.168.245.71:3006
SEQUENCE:0
DTSTAMP:20260423T173629Z
DTSTART:20251202T130000Z
DTEND:20251202T144000Z
SUMMARY:Иностранный язык. Профессионально-ориентированный курс
LOCATION:16 к. 402
END:VEVENT
BEGIN:VEVENT
UID:c8zh@192.168.245.71:3006
SEQUENCE:0
DTSTAMP:20260423T173629Z
DTSTART:20251203T070000Z
DTEND:20251203T084000Z
SUMMARY:Производственный менеджмент
LOCATION:50 уч.к 1422
END:VEVENT
BEGIN:VEVENT
UID:pf45@192.168.245.71:3006
SEQUENCE:0
DTSTAMP:20260423T173629Z
DTSTART:20251203T090000Z
DTEND:20251203T104000Z
SUMMARY:Управленческий учет
LOCATION:50 уч.к 1326
END:VEVENT
BEGIN:VEVENT
UID:o2kd@192.168.245.71:3006
SEQUENCE:0
DTSTAMP:20260423T173629Z
DTSTART:20251203T110000Z
DTEND:20251203T124000Z
SUMMARY:Эконометрика
LOCATION:50 уч.к 1208
END:VEVENT
BEGIN:VEVENT
UID:9ahc@192.168.245.71:3006
SEQUENCE:0
DTSTAMP:20260423T173629Z
DTSTART:20251205T050000Z
DTEND:20251205T064000Z
SUMMARY:Анализ финансово-хозяйственной деятельности предприятий
LOCATION:50 уч.к 1327
END:VEVENT
BEGIN:VEVENT
UID:7o5v@192.168.245.71:3006
SEQUENCE:0
DTSTAMP:20260423T173629Z
DTSTART:20251205T070000Z
DTEND:20251205T084000Z
SUMMARY:Эконометрика
LOCATION:50 уч.к 1107
END:VEVENT
BEGIN:VEVENT
UID:kgfw@192.168.245.71:3006
SEQUENCE:0
DTSTAMP:20260423T173629Z
DTSTART:20251206T070000Z
DTEND:20251206T084000Z
SUMMARY:Налоги и налогообложение
LOCATION:50 уч.к 1341
END:VEVENT
END:VCALENDAR