BEGIN:VCALENDAR
VERSION:2.0
PRODID:-//spbstu.ru//ical//RU
NAME:Расписание группы 3733801/31801
X-WR-CALNAME:Расписание группы 3733801/31801
TIMEZONE-ID:Europe/Moscow
X-WR-TIMEZONE:Europe/Moscow
BEGIN:VEVENT
UID:5toz@192.168.245.71:3006
SEQUENCE:0
DTSTAMP:20260424T184158Z
DTSTART:20250915T070000Z
DTEND:20250915T084000Z
SUMMARY:Информационные системы в экономике
LOCATION:50 уч.к 1208
END:VEVENT
BEGIN:VEVENT
UID:ibhz@192.168.245.71:3006
SEQUENCE:0
DTSTAMP:20260424T184158Z
DTSTART:20250915T090000Z
DTEND:20250915T104000Z
SUMMARY:Налоги и налогообложение
LOCATION:50 уч.к 1208
END:VEVENT
BEGIN:VEVENT
UID:ji55@192.168.245.71:3006
SEQUENCE:0
DTSTAMP:20260424T184158Z
DTSTART:20250915T110000Z
DTEND:20250915T124000Z
SUMMARY:Эконометрика
LOCATION:50 уч.к 1245
END:VEVENT
BEGIN:VEVENT
UID:s6gv@192.168.245.71:3006
SEQUENCE:0
DTSTAMP:20260424T184158Z
DTSTART:20250915T130000Z
DTEND:20250915T144000Z
SUMMARY:Анализ финансово-хозяйственной деятельности предприятий
LOCATION:50 уч.к 1245
END:VEVENT
BEGIN:VEVENT
UID:jah2@192.168.245.71:3006
SEQUENCE:0
DTSTAMP:20260424T184158Z
DTSTART:20250916T070000Z
DTEND:20250916T084000Z
SUMMARY:Управленческий учет
LOCATION:50 уч.к 1243
END:VEVENT
BEGIN:VEVENT
UID:ycs7@192.168.245.71:3006
SEQUENCE:0
DTSTAMP:20260424T184158Z
DTSTART:20250916T090000Z
DTEND:20250916T104000Z
SUMMARY:Производственный менеджмент
LOCATION:50 уч.к 1243
END:VEVENT
BEGIN:VEVENT
UID:2l9r@192.168.245.71:3006
SEQUENCE:0
DTSTAMP:20260424T184158Z
DTSTART:20250916T110000Z
DTEND:20250916T124000Z
SUMMARY:Иностранный язык. Профессионально-ориентированный курс
LOCATION:16 к. 417
END:VEVENT
BEGIN:VEVENT
UID:76ec@192.168.245.71:3006
SEQUENCE:0
DTSTAMP:20260424T184158Z
DTSTART:20250918T050000Z
DTEND:20250918T064000Z
SUMMARY:Карьерная адаптивность
LOCATION:DL Дистанционно
END:VEVENT
BEGIN:VEVENT
UID:4rra@192.168.245.71:3006
SEQUENCE:0
DTSTAMP:20260424T184158Z
DTSTART:20250919T050000Z
DTEND:20250919T064000Z
SUMMARY:Анализ финансово-хозяйственной деятельности предприятий
LOCATION:50 уч.к 1327
END:VEVENT
BEGIN:VEVENT
UID:n2f1@192.168.245.71:3006
SEQUENCE:0
DTSTAMP:20260424T184158Z
DTSTART:20250919T070000Z
DTEND:20250919T084000Z
SUMMARY:Эконометрика
LOCATION:50 уч.к 1107
END:VEVENT
END:VCALENDAR