BEGIN:VCALENDAR
VERSION:2.0
PRODID:-//spbstu.ru//ical//RU
NAME:Расписание группы 3733801/31801
X-WR-CALNAME:Расписание группы 3733801/31801
TIMEZONE-ID:Europe/Moscow
X-WR-TIMEZONE:Europe/Moscow
BEGIN:VEVENT
UID:ezc4@192.168.245.71:3006
SEQUENCE:0
DTSTAMP:20260421T084928Z
DTSTART:20260427T050000Z
DTEND:20260427T064000Z
SUMMARY:Финансовый менеджмент
LOCATION:50 уч.к 1107
END:VEVENT
BEGIN:VEVENT
UID:h1rj@192.168.245.71:3006
SEQUENCE:0
DTSTAMP:20260421T084928Z
DTSTART:20260427T070000Z
DTEND:20260427T084000Z
SUMMARY:Хранение и обработка экономической информации
LOCATION:50 уч.к 1107
END:VEVENT
BEGIN:VEVENT
UID:oyae@192.168.245.71:3006
SEQUENCE:0
DTSTAMP:20260421T084928Z
DTSTART:20260427T090000Z
DTEND:20260427T104000Z
SUMMARY:Анализ финансово-хозяйственной деятельности предприятий
LOCATION:50 уч.к 1432
END:VEVENT
BEGIN:VEVENT
UID:fd0y@192.168.245.71:3006
SEQUENCE:0
DTSTAMP:20260421T084928Z
DTSTART:20260427T110000Z
DTEND:20260427T124000Z
SUMMARY:Анализ финансово-хозяйственной деятельности предприятий
LOCATION:50 уч.к 1326
END:VEVENT
BEGIN:VEVENT
UID:i2z8@192.168.245.71:3006
SEQUENCE:0
DTSTAMP:20260421T084928Z
DTSTART:20260428T070000Z
DTEND:20260428T084000Z
SUMMARY:Налоговый учет
LOCATION:50 уч.к 1327
END:VEVENT
BEGIN:VEVENT
UID:fxjt@192.168.245.71:3006
SEQUENCE:0
DTSTAMP:20260421T084928Z
DTSTART:20260428T090000Z
DTEND:20260428T104000Z
SUMMARY:Учет затрат\, калькулирование и бюджетирование в отдельных отрасля
 х производственной сферы
LOCATION:50 уч.к 1428
END:VEVENT
BEGIN:VEVENT
UID:v98z@192.168.245.71:3006
SEQUENCE:0
DTSTAMP:20260421T084928Z
DTSTART:20260428T110000Z
DTEND:20260428T124000Z
SUMMARY:Хранение и обработка экономической информации
LOCATION:50 уч.к 1426
END:VEVENT
BEGIN:VEVENT
UID:h9c8@192.168.245.71:3006
SEQUENCE:0
DTSTAMP:20260421T084928Z
DTSTART:20260429T050000Z
DTEND:20260429T064000Z
SUMMARY:Бухгалтерский финансовый учет
LOCATION:50 уч.к 1424
END:VEVENT
BEGIN:VEVENT
UID:lww7@192.168.245.71:3006
SEQUENCE:0
DTSTAMP:20260421T084928Z
DTSTART:20260429T070000Z
DTEND:20260429T084000Z
SUMMARY:Бухгалтерский финансовый учет
LOCATION:50 уч.к 1424
END:VEVENT
BEGIN:VEVENT
UID:z3ce@192.168.245.71:3006
SEQUENCE:0
DTSTAMP:20260421T084928Z
DTSTART:20260429T090000Z
DTEND:20260429T104000Z
SUMMARY:Учет затрат\, калькулирование и бюджетирование в отдельных отрасля
 х производственной сферы
LOCATION:50 уч.к 1107
END:VEVENT
BEGIN:VEVENT
UID:jwbj@192.168.245.71:3006
SEQUENCE:0
DTSTAMP:20260421T084928Z
DTSTART:20260429T110000Z
DTEND:20260429T124000Z
SUMMARY:Налоговый учет
LOCATION:50 уч.к 1113
END:VEVENT
BEGIN:VEVENT
UID:tuvo@192.168.245.71:3006
SEQUENCE:0
DTSTAMP:20260421T084928Z
DTSTART:20260430T070000Z
DTEND:20260430T084000Z
SUMMARY:Анализ финансово-хозяйственной деятельности предприятий
LOCATION:50 уч.к 1421
END:VEVENT
BEGIN:VEVENT
UID:cg5d@192.168.245.71:3006
SEQUENCE:0
DTSTAMP:20260421T084928Z
DTSTART:20260430T090000Z
DTEND:20260430T104000Z
SUMMARY:Финансовый менеджмент
LOCATION:50 уч.к 1107
END:VEVENT
END:VCALENDAR