BEGIN:VCALENDAR
VERSION:2.0
PRODID:-//spbstu.ru//ical//RU
NAME:Расписание группы 3733802/30301
X-WR-CALNAME:Расписание группы 3733802/30301
TIMEZONE-ID:Europe/Moscow
X-WR-TIMEZONE:Europe/Moscow
BEGIN:VEVENT
UID:hyuy@192.168.245.71:3006
SEQUENCE:0
DTSTAMP:20260423T031659Z
DTSTART:20260216T070000Z
DTEND:20260216T084000Z
SUMMARY:Методы принятия управленческих решений
LOCATION:50 уч.к 1249
END:VEVENT
BEGIN:VEVENT
UID:ccsj@192.168.245.71:3006
SEQUENCE:0
DTSTAMP:20260423T031659Z
DTSTART:20260216T090000Z
DTEND:20260216T104000Z
SUMMARY:Методы принятия управленческих решений
LOCATION:50 уч.к 1249
END:VEVENT
BEGIN:VEVENT
UID:g11y@192.168.245.71:3006
SEQUENCE:0
DTSTAMP:20260423T031659Z
DTSTART:20260216T110000Z
DTEND:20260216T124000Z
SUMMARY:Управление недвижимостью
LOCATION:50 уч.к 1428
END:VEVENT
BEGIN:VEVENT
UID:6bqc@192.168.245.71:3006
SEQUENCE:0
DTSTAMP:20260423T031659Z
DTSTART:20260217T130000Z
DTEND:20260217T144000Z
SUMMARY:Карьерная адаптивность
LOCATION:50 уч.к 21002
END:VEVENT
BEGIN:VEVENT
UID:s3xw@192.168.245.71:3006
SEQUENCE:0
DTSTAMP:20260423T031659Z
DTSTART:20260218T050000Z
DTEND:20260218T064000Z
SUMMARY:Стратегический менеджмент
LOCATION:50 уч.к 1112
END:VEVENT
BEGIN:VEVENT
UID:qso0@192.168.245.71:3006
SEQUENCE:0
DTSTAMP:20260423T031659Z
DTSTART:20260218T070000Z
DTEND:20260218T084000Z
SUMMARY:Управление недвижимостью
LOCATION:50 уч.к 1112
END:VEVENT
BEGIN:VEVENT
UID:iv6n@192.168.245.71:3006
SEQUENCE:0
DTSTAMP:20260423T031659Z
DTSTART:20260218T110000Z
DTEND:20260218T124000Z
SUMMARY:Карьерная адаптивность: Управление активами и стоимостью организац
 ии в условиях экономической нестабильности
LOCATION:50 уч.к 1432
END:VEVENT
BEGIN:VEVENT
UID:4tkr@192.168.245.71:3006
SEQUENCE:0
DTSTAMP:20260423T031659Z
DTSTART:20260218T110000Z
DTEND:20260218T124000Z
SUMMARY:Карьерная адаптивность: Применение инструментов гибкого управления
  для формирования навыков менеджеров будущего
LOCATION:50 уч.к 1245
END:VEVENT
BEGIN:VEVENT
UID:dsgo@192.168.245.71:3006
SEQUENCE:0
DTSTAMP:20260423T031659Z
DTSTART:20260218T110000Z
DTEND:20260218T124000Z
SUMMARY:Карьерная адаптивность: Практики современного маркетинга
LOCATION:50 уч.к 1341
END:VEVENT
BEGIN:VEVENT
UID:wrkq@192.168.245.71:3006
SEQUENCE:0
DTSTAMP:20260423T031659Z
DTSTART:20260218T130000Z
DTEND:20260218T144000Z
SUMMARY:Карьерная адаптивность: Практики современного маркетинга
LOCATION:50 уч.к 1325
END:VEVENT
BEGIN:VEVENT
UID:e3zh@192.168.245.71:3006
SEQUENCE:0
DTSTAMP:20260423T031659Z
DTSTART:20260218T130000Z
DTEND:20260218T144000Z
SUMMARY:Карьерная адаптивность: Применение инструментов гибкого управления
  для формирования навыков менеджеров будущего
LOCATION:50 уч.к 1319
END:VEVENT
BEGIN:VEVENT
UID:eh39@192.168.245.71:3006
SEQUENCE:0
DTSTAMP:20260423T031659Z
DTSTART:20260218T130000Z
DTEND:20260218T144000Z
SUMMARY:Карьерная адаптивность: Управление активами и стоимостью организац
 ии в условиях экономической нестабильности
LOCATION:50 уч.к 1324
END:VEVENT
BEGIN:VEVENT
UID:48oj@192.168.245.71:3006
SEQUENCE:0
DTSTAMP:20260423T031659Z
DTSTART:20260219T070000Z
DTEND:20260219T084000Z
SUMMARY:Технико-экономический анализ
LOCATION:50 уч.к 1112
END:VEVENT
BEGIN:VEVENT
UID:mreu@192.168.245.71:3006
SEQUENCE:0
DTSTAMP:20260423T031659Z
DTSTART:20260219T090000Z
DTEND:20260219T104000Z
SUMMARY:Технико-экономический анализ
LOCATION:50 уч.к 1341
END:VEVENT
BEGIN:VEVENT
UID:3kjc@192.168.245.71:3006
SEQUENCE:0
DTSTAMP:20260423T031659Z
DTSTART:20260219T110000Z
DTEND:20260219T124000Z
SUMMARY:Стратегический менеджмент
LOCATION:50 уч.к 1111
END:VEVENT
BEGIN:VEVENT
UID:938u@192.168.245.71:3006
SEQUENCE:0
DTSTAMP:20260423T031659Z
DTSTART:20260219T150000Z
DTEND:20260219T164000Z
SUMMARY:Организация налогового учета и налогового планирования предприятия
LOCATION:50 уч.к 1205
END:VEVENT
BEGIN:VEVENT
UID:066t@192.168.245.71:3006
SEQUENCE:0
DTSTAMP:20260423T031659Z
DTSTART:20260221T070000Z
DTEND:20260221T084000Z
SUMMARY:Основы архитектуры и строительных конструкций
LOCATION:50 уч.к 1205
END:VEVENT
BEGIN:VEVENT
UID:2a8j@192.168.245.71:3006
SEQUENCE:0
DTSTAMP:20260423T031659Z
DTSTART:20260221T090000Z
DTEND:20260221T104000Z
SUMMARY:Основы архитектуры и строительных конструкций
LOCATION:50 уч.к 1205
END:VEVENT
END:VCALENDAR