BEGIN:VCALENDAR
VERSION:2.0
PRODID:-//spbstu.ru//ical//RU
NAME:Расписание группы 3733802/30301
X-WR-CALNAME:Расписание группы 3733802/30301
TIMEZONE-ID:Europe/Moscow
X-WR-TIMEZONE:Europe/Moscow
BEGIN:VEVENT
UID:l5w7@192.168.245.71:3006
SEQUENCE:0
DTSTAMP:20260424T110630Z
DTSTART:20260504T090000Z
DTEND:20260504T104000Z
SUMMARY:Методы принятия управленческих решений
LOCATION:50 уч.к 1249
END:VEVENT
BEGIN:VEVENT
UID:eaet@192.168.245.71:3006
SEQUENCE:0
DTSTAMP:20260424T110630Z
DTSTART:20260504T110000Z
DTEND:20260504T124000Z
SUMMARY:Управление недвижимостью
LOCATION:50 уч.к 1428
END:VEVENT
BEGIN:VEVENT
UID:xh8e@192.168.245.71:3006
SEQUENCE:0
DTSTAMP:20260424T110630Z
DTSTART:20260504T130000Z
DTEND:20260504T144000Z
SUMMARY:Управление недвижимостью
LOCATION:50 уч.к 1428
END:VEVENT
BEGIN:VEVENT
UID:b4ox@192.168.245.71:3006
SEQUENCE:0
DTSTAMP:20260424T110630Z
DTSTART:20260506T050000Z
DTEND:20260506T064000Z
SUMMARY:Стратегический менеджмент
LOCATION:50 уч.к 1112
END:VEVENT
BEGIN:VEVENT
UID:sdih@192.168.245.71:3006
SEQUENCE:0
DTSTAMP:20260424T110630Z
DTSTART:20260506T110000Z
DTEND:20260506T124000Z
SUMMARY:Карьерная адаптивность: Управление активами и стоимостью организац
 ии в условиях экономической нестабильности
LOCATION:50 уч.к 1432
END:VEVENT
BEGIN:VEVENT
UID:qd2j@192.168.245.71:3006
SEQUENCE:0
DTSTAMP:20260424T110630Z
DTSTART:20260506T110000Z
DTEND:20260506T124000Z
SUMMARY:Карьерная адаптивность: Применение инструментов гибкого управления
  для формирования навыков менеджеров будущего
LOCATION:50 уч.к 1245
END:VEVENT
BEGIN:VEVENT
UID:j872@192.168.245.71:3006
SEQUENCE:0
DTSTAMP:20260424T110630Z
DTSTART:20260506T110000Z
DTEND:20260506T124000Z
SUMMARY:Карьерная адаптивность: Практики современного маркетинга
LOCATION:50 уч.к 1341
END:VEVENT
BEGIN:VEVENT
UID:lhan@192.168.245.71:3006
SEQUENCE:0
DTSTAMP:20260424T110630Z
DTSTART:20260506T130000Z
DTEND:20260506T144000Z
SUMMARY:Карьерная адаптивность: Практики современного маркетинга
LOCATION:50 уч.к 1325
END:VEVENT
BEGIN:VEVENT
UID:zxfz@192.168.245.71:3006
SEQUENCE:0
DTSTAMP:20260424T110630Z
DTSTART:20260506T130000Z
DTEND:20260506T144000Z
SUMMARY:Карьерная адаптивность: Применение инструментов гибкого управления
  для формирования навыков менеджеров будущего
LOCATION:50 уч.к 1319
END:VEVENT
BEGIN:VEVENT
UID:x3co@192.168.245.71:3006
SEQUENCE:0
DTSTAMP:20260424T110630Z
DTSTART:20260506T130000Z
DTEND:20260506T144000Z
SUMMARY:Карьерная адаптивность: Управление активами и стоимостью организац
 ии в условиях экономической нестабильности
LOCATION:50 уч.к 1105
END:VEVENT
BEGIN:VEVENT
UID:qq7c@192.168.245.71:3006
SEQUENCE:0
DTSTAMP:20260424T110630Z
DTSTART:20260507T070000Z
DTEND:20260507T084000Z
SUMMARY:Инвестиционный анализ
LOCATION:50 уч.к 1205
END:VEVENT
BEGIN:VEVENT
UID:pjqs@192.168.245.71:3006
SEQUENCE:0
DTSTAMP:20260424T110630Z
DTSTART:20260507T090000Z
DTEND:20260507T104000Z
SUMMARY:Инвестиционный анализ
LOCATION:50 уч.к 1341
END:VEVENT
BEGIN:VEVENT
UID:0x4k@192.168.245.71:3006
SEQUENCE:0
DTSTAMP:20260424T110630Z
DTSTART:20260507T110000Z
DTEND:20260507T124000Z
SUMMARY:Стратегический менеджмент
LOCATION:50 уч.к 1111
END:VEVENT
END:VCALENDAR